BEGIN:VCALENDAR
VERSION:2.0
PRODID:-//Aigondigné - ECPv4.9.14//NONSGML v1.0//EN
CALSCALE:GREGORIAN
METHOD:PUBLISH
X-WR-CALNAME:Aigondigné
X-ORIGINAL-URL:https://www.aigondigne.fr
X-WR-CALDESC:Évènements pour Aigondigné
BEGIN:VTIMEZONE
TZID:Europe/Paris
BEGIN:DAYLIGHT
TZOFFSETFROM:+0100
TZOFFSETTO:+0200
TZNAME:CEST
DTSTART:20220327T010000
END:DAYLIGHT
BEGIN:STANDARD
TZOFFSETFROM:+0200
TZOFFSETTO:+0100
TZNAME:CET
DTSTART:20221030T010000
END:STANDARD
END:VTIMEZONE
BEGIN:VEVENT
DTSTART;TZID=Europe/Paris:20220604T140000
DTEND;TZID=Europe/Paris:20220605T190000
DTSTAMP:20260421T153040
CREATED:20220516T134413Z
LAST-MODIFIED:20220516T134413Z
UID:10695-1654351200-1654455600@www.aigondigne.fr
SUMMARY:Aéromodélisme : Journée de découverte
DESCRIPTION:Le club d’aéromodélisme de Tauché-Sainte Blandine vous propose une journée de découverte  \nle samedi 4 et le dimanche 5 juin de 14h à 19h \nVol de démonstration et initiation en double commande (gratuit) \nBuvette et crêpes sur place \nGéolocalisation : N46°14’57″W0°17’16” \nEvénement susceptible d’être annulé en cas de mauvais temps. \n
URL:https://www.aigondigne.fr/evenement/aeromodelisme-journee-de-decouverte-2/
LOCATION:Tauché\, N46°14'57'' W0°17'16''\, Aigondigné\, 79370\, France
CATEGORIES:Evenement sportif
ATTACH;FMTTYPE=image/jpeg:https://www.aigondigne.fr/wp-content/uploads/2021/09/aéromodélisme-photo.jpg
ORGANIZER;CN="Club%20d%27A%C3%A9romod%C3%A9lisme":MAILTO:philippe.dobiot@9online.fr
END:VEVENT
END:VCALENDAR