BEGIN:VCALENDAR
VERSION:2.0
PRODID:-//Aigondigné - ECPv4.9.14//NONSGML v1.0//EN
CALSCALE:GREGORIAN
METHOD:PUBLISH
X-WR-CALNAME:Aigondigné
X-ORIGINAL-URL:https://www.aigondigne.fr
X-WR-CALDESC:Évènements pour Aigondigné
BEGIN:VTIMEZONE
TZID:Europe/Paris
BEGIN:DAYLIGHT
TZOFFSETFROM:+0100
TZOFFSETTO:+0200
TZNAME:CEST
DTSTART:20260329T010000
END:DAYLIGHT
BEGIN:STANDARD
TZOFFSETFROM:+0200
TZOFFSETTO:+0100
TZNAME:CET
DTSTART:20261025T010000
END:STANDARD
END:VTIMEZONE
BEGIN:VEVENT
DTSTART;VALUE=DATE:20260914
DTEND;VALUE=DATE:20260915
DTSTAMP:20260421T235326
CREATED:20260206T090959Z
LAST-MODIFIED:20260209T111557Z
UID:19879-1789344000-1789430399@www.aigondigne.fr
SUMMARY:Aguerrissement de la 401e promotion du 1e bataillon de l'ENSOA
DESCRIPTION:Aguerrissement de la 401e promotion du 1e bataillon du lundi 14 septembre au vendredi 25 septembre 2026. \nLors de cette période\, des marches et des combats seront effectués chaque nuit sur notre commune\, par une ou plusieurs sections constituées de 25 élèves sous-officiers environ. Les itinéraires amènent les élèves à contourner les fermes et les villages. \nLes troupes utiliseront en priorité les chemins du domaine public. Elles seront parfois amenées à traverser des champs en longeant les haies ou fossés dans le respect strict des pacages et des cultures. \n
URL:https://www.aigondigne.fr/evenement/aguerrissement-de-la-401e-promotion-du-1e-bataillon-de-lensoa/
LOCATION:Aigondigné\, Aigondigné\, 79370\, France
ATTACH;FMTTYPE=image/jpeg:https://www.aigondigne.fr/wp-content/uploads/2026/02/military-feet.jpg
END:VEVENT
END:VCALENDAR