BEGIN:VCALENDAR
VERSION:2.0
PRODID:-//Aigondigné - ECPv4.9.14//NONSGML v1.0//EN
CALSCALE:GREGORIAN
METHOD:PUBLISH
X-WR-CALNAME:Aigondigné
X-ORIGINAL-URL:https://www.aigondigne.fr
X-WR-CALDESC:Évènements pour Aigondigné
BEGIN:VTIMEZONE
TZID:Europe/Paris
BEGIN:DAYLIGHT
TZOFFSETFROM:+0100
TZOFFSETTO:+0200
TZNAME:CEST
DTSTART:20200329T010000
END:DAYLIGHT
BEGIN:STANDARD
TZOFFSETFROM:+0200
TZOFFSETTO:+0100
TZNAME:CET
DTSTART:20201025T010000
END:STANDARD
END:VTIMEZONE
BEGIN:VEVENT
DTSTART;TZID=Europe/Paris:20201105T140000
DTEND;TZID=Europe/Paris:20201105T170000
DTSTAMP:20260424T083415
CREATED:20200924T133539Z
LAST-MODIFIED:20201103T165650Z
UID:4665-1604584800-1604595600@www.aigondigne.fr
SUMMARY:Aidants\, le temps d'une pause [REPORTÉ]
DESCRIPTION: \nAtelier reporté – Plus d’information prochainement \nL’Association Appui&Vous Sud 79 (CLIC Sud 79)\, en partenariat avec des acteurs locaux\, organise l’atelier « Aidants\, le temps d’une pause« . \nConjoints\, enfants\, voisins\, … accompagnant un proche dépendant du fait de l’âge\, malade ou en situation de handicap venez vivre une parenthèse bien être. \n\n« Et moi dans tout ça? » avec Alexandra Bouron Psychologue\nDécouverte d’une activité relaxante « Circle Song » avec Pauline JARRIAULT – La Voix Plume\n\nInscription obligatoire au 05 49 29 79 79 \nEn raison du contexte sanitaire actuel : le port du masque sera obligatoire pendant la durée des événements. Les gestes et mesures barrières seront également appliqués sur place. \n
URL:https://www.aigondigne.fr/evenement/aidants-le-temps-dune-pause/
LOCATION:salle des jeunes à Mougon\, Place de la Fruitière\, Mougon\, 79370\, France
END:VEVENT
END:VCALENDAR