BEGIN:VCALENDAR
VERSION:2.0
PRODID:-//Aigondigné - ECPv4.9.14//NONSGML v1.0//EN
CALSCALE:GREGORIAN
METHOD:PUBLISH
X-WR-CALNAME:Aigondigné
X-ORIGINAL-URL:https://www.aigondigne.fr
X-WR-CALDESC:Évènements pour Aigondigné
BEGIN:VTIMEZONE
TZID:Europe/Paris
BEGIN:DAYLIGHT
TZOFFSETFROM:+0100
TZOFFSETTO:+0200
TZNAME:CEST
DTSTART:20250330T010000
END:DAYLIGHT
BEGIN:STANDARD
TZOFFSETFROM:+0200
TZOFFSETTO:+0100
TZNAME:CET
DTSTART:20251026T010000
END:STANDARD
END:VTIMEZONE
BEGIN:VEVENT
DTSTART;TZID=Europe/Paris:20251004T100000
DTEND;TZID=Europe/Paris:20251004T123000
DTSTAMP:20260423T111751
CREATED:20250221T082818Z
LAST-MODIFIED:20250902T122406Z
UID:17247-1759572000-1759581000@www.aigondigne.fr
SUMMARY:Animation nature : Produits d'entretien biodégradables
DESCRIPTION:La Ville de Niort\, Niort Agglo et la Société des Eaux du Niortais lancent un nouveau programme d’ateliers “Jardin au naturel” pour apprendre les bonnes pratiques du jardinage sans pesticides. \nRetrouvez au long de l’année des ateliers pour prendre de nouvelles bonnes habitudes naturelles autour du niortais. \nAigondigné accueillera le 4 octobre 2025 une animation pour vous apprendre à fabriquer et utiliser des produits d’entretien biodégradables pour un ménage plus respectueux de l’environnement ! \nRetrouvez la programmation de tous les ateliers juste ici ! \nprog-jardinsaunaturel-2025  \n  \n
URL:https://www.aigondigne.fr/evenement/animation-nature-produits-dentretien-biodegradables/
CATEGORIES:biodiversité,Environnement
ATTACH;FMTTYPE=image/jpeg:https://www.aigondigne.fr/wp-content/uploads/2025/02/Produits-ménagers-naturels.jpg
END:VEVENT
END:VCALENDAR