BEGIN:VCALENDAR
VERSION:2.0
PRODID:-//Aigondigné - ECPv4.9.14//NONSGML v1.0//EN
CALSCALE:GREGORIAN
METHOD:PUBLISH
X-WR-CALNAME:Aigondigné
X-ORIGINAL-URL:https://www.aigondigne.fr
X-WR-CALDESC:Évènements pour Aigondigné
BEGIN:VTIMEZONE
TZID:Europe/Paris
BEGIN:DAYLIGHT
TZOFFSETFROM:+0100
TZOFFSETTO:+0200
TZNAME:CEST
DTSTART:20250330T010000
END:DAYLIGHT
BEGIN:STANDARD
TZOFFSETFROM:+0200
TZOFFSETTO:+0100
TZNAME:CET
DTSTART:20251026T010000
END:STANDARD
END:VTIMEZONE
BEGIN:VEVENT
DTSTART;TZID=Europe/Paris:20250905T203000
DTEND;TZID=Europe/Paris:20250905T230000
DTSTAMP:20260424T044954
CREATED:20250624T131317Z
LAST-MODIFIED:20250902T081053Z
UID:18090-1757104200-1757113200@www.aigondigne.fr
SUMMARY:Apéro - concerts Aigonnay
DESCRIPTION:Le vendredi 5 septembre 2025 à 20h30 au Champ Communal d’Aigonnay.  \nOrganisé par Aigonnay en Fête.  \nPlus d’informations à venir;  \n
URL:https://www.aigondigne.fr/evenement/apero-concerts-aigonnay/
LOCATION:champ communal d’Aigonnay\, 6 route de la rivière\, aigondigné\, 79370\, France
CATEGORIES:apéro-concert
ATTACH;FMTTYPE=image/jpeg:https://www.aigondigne.fr/wp-content/uploads/2025/06/IMG-20250817-WA0004.jpg
ORGANIZER;CN="Aigonnay%20en%20f%C3%AAte":MAILTO:fetesaigonnay@hotmail.fr
END:VEVENT
END:VCALENDAR