BEGIN:VCALENDAR
VERSION:2.0
PRODID:-//Aigondigné - ECPv4.9.14//NONSGML v1.0//EN
CALSCALE:GREGORIAN
METHOD:PUBLISH
X-WR-CALNAME:Aigondigné
X-ORIGINAL-URL:https://www.aigondigne.fr
X-WR-CALDESC:Évènements pour Aigondigné
BEGIN:VTIMEZONE
TZID:Europe/Paris
BEGIN:DAYLIGHT
TZOFFSETFROM:+0100
TZOFFSETTO:+0200
TZNAME:CEST
DTSTART:20250330T010000
END:DAYLIGHT
BEGIN:STANDARD
TZOFFSETFROM:+0200
TZOFFSETTO:+0100
TZNAME:CET
DTSTART:20251026T010000
END:STANDARD
END:VTIMEZONE
BEGIN:VEVENT
DTSTART;TZID=Europe/Paris:20250913T190000
DTEND;TZID=Europe/Paris:20250913T230000
DTSTAMP:20260423T230211
CREATED:20250624T132316Z
LAST-MODIFIED:20250624T132316Z
UID:18093-1757790000-1757804400@www.aigondigne.fr
SUMMARY:Apéro - concerts Thorigné
DESCRIPTION:Rendez-vous le samedi 13 septembre à 19H00 à l’Espace Marcel Moreau à Thorigné.  \nOrganisé par l’ACLAM;  \nPlus d’informations à venir. \n
URL:https://www.aigondigne.fr/evenement/apero-concerts-thorigne/
LOCATION:Espace Marcel Moreau
CATEGORIES:apéro-concert
ATTACH;FMTTYPE=image/jpeg:https://www.aigondigne.fr/wp-content/uploads/2025/06/290034401_3201895343366558_1633926283281503972_n.jpg
ORGANIZER;CN="Aclam":MAILTO:association@aclam.fr
END:VEVENT
END:VCALENDAR