BEGIN:VCALENDAR
VERSION:2.0
PRODID:-//Aigondigné - ECPv4.9.14//NONSGML v1.0//EN
CALSCALE:GREGORIAN
METHOD:PUBLISH
X-WR-CALNAME:Aigondigné
X-ORIGINAL-URL:https://www.aigondigne.fr
X-WR-CALDESC:Évènements pour Aigondigné
BEGIN:VTIMEZONE
TZID:Europe/Paris
BEGIN:DAYLIGHT
TZOFFSETFROM:+0100
TZOFFSETTO:+0200
TZNAME:CEST
DTSTART:20240331T010000
END:DAYLIGHT
BEGIN:STANDARD
TZOFFSETFROM:+0200
TZOFFSETTO:+0100
TZNAME:CET
DTSTART:20241027T010000
END:STANDARD
END:VTIMEZONE
BEGIN:VEVENT
DTSTART;TZID=Europe/Paris:20240223T140000
DTEND;TZID=Europe/Paris:20240223T170000
DTSTAMP:20260422T025040
CREATED:20240126T151552Z
LAST-MODIFIED:20240126T151552Z
UID:14844-1708696800-1708707600@www.aigondigne.fr
SUMMARY:Après-midi jeu : Loups-Garous
DESCRIPTION:La bibliothèque d’Aigondigné vous propose un après-midi jeu : \nLoups-Garous de Thiercelieux \nRDV à la bibliothèque de Mougon le vendredi 23 février de 14h à 17h \nUn goûter clôturera l’après-midi. \nAnimation pour les 10 ans et plus – Limite de 15 places – Réservation au 07 48 11 54 65 ou par email bibliotheque@aigondigne.fr \n
URL:https://www.aigondigne.fr/evenement/apres-midi-jeu-loups-garous/
LOCATION:Bibliothèque de Mougon\, 15C rue Aurore Dupin\, Aigondigné\, 79370\, France
CATEGORIES:Evènement culturel
ATTACH;FMTTYPE=image/jpeg:https://www.aigondigne.fr/wp-content/uploads/2024/01/Loups-Garous-février-2024.jpg
ORGANIZER;CN="biblioth%C3%A8que%20d%27Aigondign%C3%A9":MAILTO:bibliotheque@aigondigne.fr
END:VEVENT
END:VCALENDAR