BEGIN:VCALENDAR
VERSION:2.0
PRODID:-//Aigondigné - ECPv4.9.14//NONSGML v1.0//EN
CALSCALE:GREGORIAN
METHOD:PUBLISH
X-WR-CALNAME:Aigondigné
X-ORIGINAL-URL:https://www.aigondigne.fr
X-WR-CALDESC:Évènements pour Aigondigné
BEGIN:VTIMEZONE
TZID:Europe/Paris
BEGIN:DAYLIGHT
TZOFFSETFROM:+0100
TZOFFSETTO:+0200
TZNAME:CEST
DTSTART:20260329T010000
END:DAYLIGHT
BEGIN:STANDARD
TZOFFSETFROM:+0200
TZOFFSETTO:+0100
TZNAME:CET
DTSTART:20261025T010000
END:STANDARD
END:VTIMEZONE
BEGIN:VEVENT
DTSTART;TZID=Europe/Paris:20260602T143000
DTEND;TZID=Europe/Paris:20260602T160000
DTSTAMP:20260421T134019
CREATED:20260120T135724Z
LAST-MODIFIED:20260120T135724Z
UID:19799-1780410600-1780416000@www.aigondigne.fr
SUMMARY:ATELIER BIEN-ÊTRE : Atelier créatif\, art thérapie
DESCRIPTION:Le CCAS de Aigondigné et l’association CIF-SP\, Solidaires entre les âges\, vous invitent aux ateliers bien-être ! Café et thé d’accueil ainsi qu’un goûter partagé en fin d’atelier. \nThème du jour : Atelier créatif\, art thérapie \nAteliers gratuits réservés aux personnes de plus de 60 ans \nRenseignements et inscriptions sur le standard Cif-SP : 05 49 37 07 78 ou auprès de Marjorie Degond\, référente pour Aigondigné\, au 06 24 40 63 12 \n
URL:https://www.aigondigne.fr/evenement/atelier-bien-etre-atelier-creatif-art-therapie/
LOCATION:CCAS\, 48 rue des Babelottes\, Mougon\, Aigondigné\, 79370\, France
CATEGORIES:Solidarité
ATTACH;FMTTYPE=image/jpeg:https://www.aigondigne.fr/wp-content/uploads/2026/01/Communication-CNSA-Aigondigné-1er-sem-2026_page-0001.jpg
ORGANIZER;CN="Association%20Cif-SP":MAILTO:bientraitance@cif-sp.org
END:VEVENT
END:VCALENDAR