BEGIN:VCALENDAR
VERSION:2.0
PRODID:-//Aigondigné - ECPv4.9.14//NONSGML v1.0//EN
CALSCALE:GREGORIAN
METHOD:PUBLISH
X-WR-CALNAME:Aigondigné
X-ORIGINAL-URL:https://www.aigondigne.fr
X-WR-CALDESC:Évènements pour Aigondigné
BEGIN:VTIMEZONE
TZID:Europe/Paris
BEGIN:DAYLIGHT
TZOFFSETFROM:+0100
TZOFFSETTO:+0200
TZNAME:CEST
DTSTART:20240331T010000
END:DAYLIGHT
BEGIN:STANDARD
TZOFFSETFROM:+0200
TZOFFSETTO:+0100
TZNAME:CET
DTSTART:20241027T010000
END:STANDARD
END:VTIMEZONE
BEGIN:VEVENT
DTSTART;TZID=Europe/Paris:20240314T093000
DTEND;TZID=Europe/Paris:20240314T120000
DTSTAMP:20260421T165833
CREATED:20240219T074207Z
LAST-MODIFIED:20240219T074243Z
UID:15040-1710408600-1710417600@www.aigondigne.fr
SUMMARY:Atelier connaissance du territoire Mellois en Poitou
DESCRIPTION:La Communauté de Communes Mellois en Poitou\, France Travail et le CBE Mellois en Poitou vous propose un atelier dans le but de connaître le tissu économique local\, les filières et les principaux employeurs du Mellois en Poitou. \nJeudi 14 mars de 9h30 à 12h \ndans les locaux du CBE Mellois en Poitou \nNombre de places limitées – Inscription obligatoire au 05 49 27 97 17 \n
URL:https://www.aigondigne.fr/evenement/atelier-connaissance-du-territoire-mellois-en-poitou-2/
LOCATION:CBE Mellois en Poitou\, 2 rue des Fusains\, Melle\, 79500\, France
ATTACH;FMTTYPE=image/jpeg:https://www.aigondigne.fr/wp-content/uploads/2024/02/AFFICHE-CONNAISSANCE-TERRITOIRE-14-03-2024_page-0001.jpg
END:VEVENT
END:VCALENDAR