BEGIN:VCALENDAR
VERSION:2.0
PRODID:-//Aigondigné - ECPv4.9.14//NONSGML v1.0//EN
CALSCALE:GREGORIAN
METHOD:PUBLISH
X-WR-CALNAME:Aigondigné
X-ORIGINAL-URL:https://www.aigondigne.fr
X-WR-CALDESC:Évènements pour Aigondigné
BEGIN:VTIMEZONE
TZID:Europe/Paris
BEGIN:DAYLIGHT
TZOFFSETFROM:+0100
TZOFFSETTO:+0200
TZNAME:CEST
DTSTART:20230326T010000
END:DAYLIGHT
BEGIN:STANDARD
TZOFFSETFROM:+0200
TZOFFSETTO:+0100
TZNAME:CET
DTSTART:20231029T010000
END:STANDARD
END:VTIMEZONE
BEGIN:VEVENT
DTSTART;TZID=Europe/Paris:20230513T093000
DTEND;TZID=Europe/Paris:20230513T123000
DTSTAMP:20260424T084723
CREATED:20230302T101912Z
LAST-MODIFIED:20230303T081714Z
UID:12576-1683970200-1683981000@www.aigondigne.fr
SUMMARY:Atelier Jardin au Naturel : Les plantes sauvages\, des alliées au jardin et des trésors en cuisine
DESCRIPTION:Découvrez les plantes sauvages qui poussent dans un jardin au naturel\, alliées pour le jardinier et délicieuses à déguster. \nAtelier dégustation au jardin de Chanteloup. Recettes de saison. \nAnimateurs : Amandine Geers et Vent d’Ouest \nInscription sur Niort Agglo\, SEV \n  \nRetrouvez ici la programmation des ateliers « Jardin au Naturel » : \nprog-jardinsaunaturel-2023 \n  \n  \n
URL:https://www.aigondigne.fr/evenement/atelier-jardin-au-naturel-les-plantes-sauvages-des-alliees-au-jardin-et-des-tresors-en-cuisine/
LOCATION:Le jardin de Chanteloup\, Chanteloup\, Aigonnay\, Aigondigné\, 79370\, France
ATTACH;FMTTYPE=image/jpeg:https://www.aigondigne.fr/wp-content/uploads/2023/03/plantes-cuisine.jpg
END:VEVENT
END:VCALENDAR