BEGIN:VCALENDAR
VERSION:2.0
PRODID:-//Aigondigné - ECPv4.9.14//NONSGML v1.0//EN
CALSCALE:GREGORIAN
METHOD:PUBLISH
X-WR-CALNAME:Aigondigné
X-ORIGINAL-URL:https://www.aigondigne.fr
X-WR-CALDESC:Évènements pour Aigondigné
BEGIN:VTIMEZONE
TZID:Europe/Paris
BEGIN:DAYLIGHT
TZOFFSETFROM:+0100
TZOFFSETTO:+0200
TZNAME:CEST
DTSTART:20260329T010000
END:DAYLIGHT
BEGIN:STANDARD
TZOFFSETFROM:+0200
TZOFFSETTO:+0100
TZNAME:CET
DTSTART:20261025T010000
END:STANDARD
END:VTIMEZONE
BEGIN:VEVENT
DTSTART;TZID=Europe/Paris:20261024T100000
DTEND;TZID=Europe/Paris:20261024T120000
DTSTAMP:20260422T013433
CREATED:20260309T092332Z
LAST-MODIFIED:20260309T092332Z
UID:20090-1792836000-1792843200@www.aigondigne.fr
SUMMARY:Atelier Jardin au naturel : Pays des arbres têtards
DESCRIPTION:Une balade pour découvrir ces surprenants géants aux formes sculptées ! \nDécelez leurs secrets au cours d’une balade dans la vallée du Lambon. \nUne animation pleine d’émerveillement pour les grands et les petits. \nAnimation gratuite\, sur inscription\, proposée par la Société des eaux du Niortais et Niort agglo en partenariat avec le CPIE de Gâtine Poitevine.  \nNombre de places limité. \nClôture des inscriptions la veille à midi.\nLe lieu de rendez-vous vous sera précisé avant l’évènement.\nEn cas d’empêchement\, merci de vous désinscrire pour libérer la place. \nContact: 06 75 79 63 23 olivier.caille@sedn.fr \n  \nRetrouvez ici le programme 2026 : prog-jardinsaunaturel-2026 \n
URL:https://www.aigondigne.fr/evenement/atelier-jardin-au-naturel-pays-des-arbres-tetards/
LOCATION:Aigondigné\, Aigondigné\, 79370\, France
CATEGORIES:Atelier
ATTACH;FMTTYPE=image/png:https://www.aigondigne.fr/wp-content/uploads/2026/03/Capture-décran-2026-03-09-102231.png
END:VEVENT
END:VCALENDAR