BEGIN:VCALENDAR
VERSION:2.0
PRODID:-//Aigondigné - ECPv4.9.14//NONSGML v1.0//EN
CALSCALE:GREGORIAN
METHOD:PUBLISH
X-WR-CALNAME:Aigondigné
X-ORIGINAL-URL:https://www.aigondigne.fr
X-WR-CALDESC:Évènements pour Aigondigné
BEGIN:VTIMEZONE
TZID:Europe/Paris
BEGIN:DAYLIGHT
TZOFFSETFROM:+0100
TZOFFSETTO:+0200
TZNAME:CEST
DTSTART:20240331T010000
END:DAYLIGHT
BEGIN:STANDARD
TZOFFSETFROM:+0200
TZOFFSETTO:+0100
TZNAME:CET
DTSTART:20241027T010000
END:STANDARD
END:VTIMEZONE
BEGIN:VEVENT
DTSTART;TZID=Europe/Paris:20240928T100000
DTEND;TZID=Europe/Paris:20240928T123000
DTSTAMP:20260420T092856
CREATED:20240321T110035Z
LAST-MODIFIED:20240806T131035Z
UID:15231-1727517600-1727526600@www.aigondigne.fr
SUMMARY:Atelier : Les aromatiques au potager
DESCRIPTION: \nDans le cadre du programme des animations jardin au naturel\, le SEV vous invite à participer à un atelier pour découvrir les bienfaits des plantes aromatiques au jardin. Comment les reconnaitre\, les installer au jardin et les associer aux plantes potagères ? Comment les conserver\, les multiplier et les transformer… Les participants repartiront avec des boutures. \nAnimation gratuit par Vent d’Ouest et le Jardin de Chanteloup \nPlaces limitées – Inscriptions sur le site de NIORT AGGLO \nou auprès du SEV par email :  olivier.caille@eaux-du-vivier.fr  ou par téléphone : 06 75 79 63 23 \nRetrouvez ici le programme 2024 des animations « Jardin_au_naturel_2024«  \n
URL:https://www.aigondigne.fr/evenement/atelier-les-aromatiques-au-potager/
LOCATION:Le jardin de Chanteloup\, Chanteloup\, Aigonnay\, Aigondigné\, 79370\, France
CATEGORIES:biodiversité
ATTACH;FMTTYPE=image/jpeg:https://www.aigondigne.fr/wp-content/uploads/2024/03/garden-plants-6204106_1280.jpg
ORGANIZER;CN="Commune%20d%27Aigondign%C3%A9":MAILTO:accueil@aigondigne.fr
END:VEVENT
END:VCALENDAR