BEGIN:VCALENDAR
VERSION:2.0
PRODID:-//Aigondigné - ECPv4.9.14//NONSGML v1.0//EN
CALSCALE:GREGORIAN
METHOD:PUBLISH
X-WR-CALNAME:Aigondigné
X-ORIGINAL-URL:https://www.aigondigne.fr
X-WR-CALDESC:Évènements pour Aigondigné
BEGIN:VTIMEZONE
TZID:Europe/Paris
BEGIN:DAYLIGHT
TZOFFSETFROM:+0100
TZOFFSETTO:+0200
TZNAME:CEST
DTSTART:20250330T010000
END:DAYLIGHT
BEGIN:STANDARD
TZOFFSETFROM:+0200
TZOFFSETTO:+0100
TZNAME:CET
DTSTART:20251026T010000
END:STANDARD
END:VTIMEZONE
BEGIN:VEVENT
DTSTART;TZID=Europe/Paris:20250226T150000
DTEND;TZID=Europe/Paris:20250226T170000
DTSTAMP:20260422T013734
CREATED:20250206T092048Z
LAST-MODIFIED:20250207T085821Z
UID:17153-1740582000-1740589200@www.aigondigne.fr
SUMMARY:Atelier linogravure
DESCRIPTION:La bibliothèque d’Aigondigné et le Pays d’Art et d’Histoire de Mellois en Poitou vous propose un atelier de linogravure pour faire découvrir la naissance de l’imprimerie aux plus jeunes. \nEn plus de cet apprentissage ludique\, les enfants pourront créer eux-mêmes une œuvre de linogravure !  \nL’atelier se fait sur inscription et est réservé aux enfants de 7 à 12 ans. Attention\, le nombre de places est limité ! \n \n
URL:https://www.aigondigne.fr/evenement/atelier-linogravure/
LOCATION:Bibliothèque de Tauché – Sainte Blandine\, Aigondigné\, France
CATEGORIES:Evènement culturel
ATTACH;FMTTYPE=image/png:https://www.aigondigne.fr/wp-content/uploads/2025/02/Animation-gravure-bibliothèque-février-1.png
ORGANIZER;CN="biblioth%C3%A8que%20d%27Aigondign%C3%A9":MAILTO:bibliotheque@aigondigne.fr
END:VEVENT
END:VCALENDAR