BEGIN:VCALENDAR
VERSION:2.0
PRODID:-//Aigondigné - ECPv4.9.14//NONSGML v1.0//EN
CALSCALE:GREGORIAN
METHOD:PUBLISH
X-WR-CALNAME:Aigondigné
X-ORIGINAL-URL:https://www.aigondigne.fr
X-WR-CALDESC:Évènements pour Aigondigné
BEGIN:VTIMEZONE
TZID:Europe/Paris
BEGIN:DAYLIGHT
TZOFFSETFROM:+0100
TZOFFSETTO:+0200
TZNAME:CEST
DTSTART:20250330T010000
END:DAYLIGHT
BEGIN:STANDARD
TZOFFSETFROM:+0200
TZOFFSETTO:+0100
TZNAME:CET
DTSTART:20251026T010000
END:STANDARD
END:VTIMEZONE
BEGIN:VEVENT
DTSTART;TZID=Europe/Paris:20250911T093000
DTEND;TZID=Europe/Paris:20250911T120000
DTSTAMP:20260424T015717
CREATED:20250804T135213Z
LAST-MODIFIED:20250804T135213Z
UID:18691-1757583000-1757592000@www.aigondigne.fr
SUMMARY:Atelier : Mieux connaître le territoire du Mellois en Poitou
DESCRIPTION:Venez participer à un atelier co-animé par la Communauté de Communes Mellois en Poitou\, France Travail et le CBE Mellois en Poitou  \nObjectif : Mieux connaître le tissu économique local\, les filières et les principaux employeurs du Mellois en Poitou. \nRendez-vous le jeudi 11 septembre 2025 de 9h30 à 12h00 dans les locaux du CBE Mellois en Poitou – 2 rue des Fusains à Melle  \nNombre de places limitées\, inscription obligatoire en contactant le CBE Mellois en Poitou au 05.49.27.97.17 \n
URL:https://www.aigondigne.fr/evenement/atelier-mieux-connaitre-le-territoire-du-mellois-en-poitou/
LOCATION:CBE Mellois en Poitou\, 2 rue des Fusains\, Melle\, 79500\, France
CATEGORIES:Atelier
ATTACH;FMTTYPE=image/png:https://www.aigondigne.fr/wp-content/uploads/2025/08/AFFICHE-CONNAISSANCE-TERRITOIRE-11-09-2025.png
ORGANIZER;CN="CBE":MAILTO:secretariat@cbedumellois.fr
END:VEVENT
END:VCALENDAR