BEGIN:VCALENDAR
VERSION:2.0
PRODID:-//Aigondigné - ECPv4.9.14//NONSGML v1.0//EN
CALSCALE:GREGORIAN
METHOD:PUBLISH
X-WR-CALNAME:Aigondigné
X-ORIGINAL-URL:https://www.aigondigne.fr
X-WR-CALDESC:Évènements pour Aigondigné
BEGIN:VTIMEZONE
TZID:Europe/Paris
BEGIN:DAYLIGHT
TZOFFSETFROM:+0100
TZOFFSETTO:+0200
TZNAME:CEST
DTSTART:20200329T010000
END:DAYLIGHT
BEGIN:STANDARD
TZOFFSETFROM:+0200
TZOFFSETTO:+0100
TZNAME:CET
DTSTART:20201025T010000
END:STANDARD
END:VTIMEZONE
BEGIN:VEVENT
DTSTART;TZID=Europe/Paris:20200227T093000
DTEND;TZID=Europe/Paris:20200227T120000
DTSTAMP:20260420T092332
CREATED:20200207T110455Z
LAST-MODIFIED:20200207T110455Z
UID:1577-1582795800-1582804800@www.aigondigne.fr
SUMMARY:ATELIER "Mieux connaître les dispositifs de formation pour construire un projet professionnel"
DESCRIPTION:Que vous soyez demandeur d’emploi\, salarié\, responsable RH ou chef d’entreprise… \nQuelque soit votre projet professionnel… \nVenez vous informer* sur les dispositifs d’orientation et de formation et les démarches à mettre en oeuvre afin d’obtenir un financement… \nLe jeudi 27 février 2020 à 9h30… \nau CBE Mellois en Poitou \n  \n*Inscription obligatoire au 05 49 27 97 17 \n
URL:https://www.aigondigne.fr/evenement/atelier-mieux-connaitre-les-dispositifs-de-formation-pour-construire-un-projet-professionnel/
LOCATION:CBE Mellois en Poitou\, 2 rue des Fusains\, Melle\, 79500\, France
ATTACH;FMTTYPE=image/jpeg:https://www.aigondigne.fr/wp-content/uploads/2020/02/CBE.jpg
END:VEVENT
END:VCALENDAR