BEGIN:VCALENDAR
VERSION:2.0
PRODID:-//Aigondigné - ECPv4.9.14//NONSGML v1.0//EN
CALSCALE:GREGORIAN
METHOD:PUBLISH
X-WR-CALNAME:Aigondigné
X-ORIGINAL-URL:https://www.aigondigne.fr
X-WR-CALDESC:Évènements pour Aigondigné
BEGIN:VTIMEZONE
TZID:Europe/Paris
BEGIN:DAYLIGHT
TZOFFSETFROM:+0100
TZOFFSETTO:+0200
TZNAME:CEST
DTSTART:20220327T010000
END:DAYLIGHT
BEGIN:STANDARD
TZOFFSETFROM:+0200
TZOFFSETTO:+0100
TZNAME:CET
DTSTART:20221030T010000
END:STANDARD
END:VTIMEZONE
BEGIN:VEVENT
DTSTART;TZID=Europe/Paris:20220726T140000
DTEND;TZID=Europe/Paris:20220726T150000
DTSTAMP:20260424T084542
CREATED:20220617T071139Z
LAST-MODIFIED:20220721T100144Z
UID:11025-1658844000-1658847600@www.aigondigne.fr
SUMMARY:Atelier numérique : comment partager ses photos de vacances ?
DESCRIPTION:Comment partager ses photos de vacances ? Apprendre à partager sur les réseaux sociaux mais aussi créer son livre photo de vacances pour garder ses souvenirs. \nTout public \nRéservation conseillée auprès de votre conseillère numérique au 07 55 62 35 83 ou conseillernumerique@aigondigne.fr \n
URL:https://www.aigondigne.fr/evenement/atelier-numerique-comment-partager-ses-photos-de-vacances-2/
LOCATION:mairie déléguée de Sainte Blandine\, 24 rue Jacques Bujault\, Aigondigné\, 79370\, France
ORGANIZER;CN="CCAS":MAILTO:ccas@aigondigne.fr
END:VEVENT
END:VCALENDAR