BEGIN:VCALENDAR
VERSION:2.0
PRODID:-//Aigondigné - ECPv4.9.14//NONSGML v1.0//EN
CALSCALE:GREGORIAN
METHOD:PUBLISH
X-WR-CALNAME:Aigondigné
X-ORIGINAL-URL:https://www.aigondigne.fr
X-WR-CALDESC:Évènements pour Aigondigné
BEGIN:VTIMEZONE
TZID:Europe/Paris
BEGIN:DAYLIGHT
TZOFFSETFROM:+0100
TZOFFSETTO:+0200
TZNAME:CEST
DTSTART:20220327T010000
END:DAYLIGHT
BEGIN:STANDARD
TZOFFSETFROM:+0200
TZOFFSETTO:+0100
TZNAME:CET
DTSTART:20221030T010000
END:STANDARD
END:VTIMEZONE
BEGIN:VEVENT
DTSTART;TZID=Europe/Paris:20220725T140000
DTEND;TZID=Europe/Paris:20220725T150000
DTSTAMP:20260420T131422
CREATED:20220617T070933Z
LAST-MODIFIED:20220630T095147Z
UID:11020-1658757600-1658761200@www.aigondigne.fr
SUMMARY:Atelier numérique : comment partager ses photos de vacances ?
DESCRIPTION:Comment partager ses photos de vacances ? Apprendre à partager sur les réseaux sociaux mais aussi créer son livre photo de vacances pour garder ses souvenirs. \nTout public \n
URL:https://www.aigondigne.fr/evenement/atelier-numerique-comment-partager-ses-photos-de-vacances/
LOCATION:mairie déléguée d’aigonnay\, 6 route de la rivière\, aigondigné\, 79370
ORGANIZER;CN="CCAS":MAILTO:ccas@aigondigne.fr
END:VEVENT
END:VCALENDAR