BEGIN:VCALENDAR
VERSION:2.0
PRODID:-//Aigondigné - ECPv4.9.14//NONSGML v1.0//EN
CALSCALE:GREGORIAN
METHOD:PUBLISH
X-WR-CALNAME:Aigondigné
X-ORIGINAL-URL:https://www.aigondigne.fr
X-WR-CALDESC:Évènements pour Aigondigné
BEGIN:VTIMEZONE
TZID:Europe/Paris
BEGIN:DAYLIGHT
TZOFFSETFROM:+0100
TZOFFSETTO:+0200
TZNAME:CEST
DTSTART:20220327T010000
END:DAYLIGHT
BEGIN:STANDARD
TZOFFSETFROM:+0200
TZOFFSETTO:+0100
TZNAME:CET
DTSTART:20221030T010000
END:STANDARD
END:VTIMEZONE
BEGIN:VEVENT
DTSTART;TZID=Europe/Paris:20220801T170000
DTEND;TZID=Europe/Paris:20220801T180000
DTSTAMP:20260424T114418
CREATED:20220721T094346Z
LAST-MODIFIED:20220721T100059Z
UID:11365-1659373200-1659376800@www.aigondigne.fr
SUMMARY:Atelier numérique : découvrir de nouvelles passions
DESCRIPTION:Tout public \nRéservation conseillée auprès de votre conseillère numérique au 07 55 62 35 83 ou conseillernumerique@aigondigne.fr \n
URL:https://www.aigondigne.fr/evenement/atelier-numerique-decouvrir-de-nouvelles-passions/
LOCATION:mairie principale\, 8 place de la mairie\, Mougon\, Aigondigné\, 79370\, France
ORGANIZER;CN="Conseiller%20Num%C3%A9rique":MAILTO:conseillernumerique@aigondigne.fr
END:VEVENT
END:VCALENDAR