BEGIN:VCALENDAR
VERSION:2.0
PRODID:-//Aigondigné - ECPv4.9.14//NONSGML v1.0//EN
CALSCALE:GREGORIAN
METHOD:PUBLISH
X-WR-CALNAME:Aigondigné
X-ORIGINAL-URL:https://www.aigondigne.fr
X-WR-CALDESC:Évènements pour Aigondigné
BEGIN:VTIMEZONE
TZID:Europe/Paris
BEGIN:DAYLIGHT
TZOFFSETFROM:+0100
TZOFFSETTO:+0200
TZNAME:CEST
DTSTART:20220327T010000
END:DAYLIGHT
BEGIN:STANDARD
TZOFFSETFROM:+0200
TZOFFSETTO:+0100
TZNAME:CET
DTSTART:20221030T010000
END:STANDARD
END:VTIMEZONE
BEGIN:VEVENT
DTSTART;TZID=Europe/Paris:20220602T180000
DTEND;TZID=Europe/Paris:20220602T190000
DTSTAMP:20260421T132609
CREATED:20220524T095832Z
LAST-MODIFIED:20220524T095832Z
UID:10712-1654192800-1654196400@www.aigondigne.fr
SUMMARY:Atelier numérique : Mon espace santé
DESCRIPTION:Découvrir mon espace sante. Le créer ou le refuser ? \nInscriptions : \n\nen mairie principale (Mougon)\, ou en mairies déléguées (Aigonnay\, Tauché\, Thorigné)\npar mail à conseillernumerique@aigondigne.fr \npar téléphone au 07 55 62 35 83\n\n
URL:https://www.aigondigne.fr/evenement/atelier-numerique-mon-espace-sante-2/
LOCATION:mairie principale\, 8 place de la mairie\, Mougon\, Aigondigné\, 79370\, France
ORGANIZER;CN="CCAS":MAILTO:ccas@aigondigne.fr
END:VEVENT
END:VCALENDAR