BEGIN:VCALENDAR
VERSION:2.0
PRODID:-//Aigondigné - ECPv4.9.14//NONSGML v1.0//EN
CALSCALE:GREGORIAN
METHOD:PUBLISH
X-WR-CALNAME:Aigondigné
X-ORIGINAL-URL:https://www.aigondigne.fr
X-WR-CALDESC:Évènements pour Aigondigné
BEGIN:VTIMEZONE
TZID:Europe/Paris
BEGIN:DAYLIGHT
TZOFFSETFROM:+0100
TZOFFSETTO:+0200
TZNAME:CEST
DTSTART:20220327T010000
END:DAYLIGHT
BEGIN:STANDARD
TZOFFSETFROM:+0200
TZOFFSETTO:+0100
TZNAME:CET
DTSTART:20221030T010000
END:STANDARD
END:VTIMEZONE
BEGIN:VEVENT
DTSTART;TZID=Europe/Paris:20220803T150000
DTEND;TZID=Europe/Paris:20220803T163000
DTSTAMP:20260424T130935
CREATED:20220721T094607Z
LAST-MODIFIED:20220721T100041Z
UID:11368-1659538800-1659544200@www.aigondigne.fr
SUMMARY:Atelier numérique : on fabrique un hologramme
DESCRIPTION:Atelier parents-enfants \nRéservation conseillée auprès de votre conseillère numérique au 07 55 62 35 83 ou conseillernumerique@aigondigne.fr \n
URL:https://www.aigondigne.fr/evenement/atelier-numerique-on-fabrique-un-hologramme/
LOCATION:mairie principale\, 8 place de la mairie\, Mougon\, Aigondigné\, 79370\, France
CATEGORIES:Evènement culturel
ORGANIZER;CN="Conseiller%20Num%C3%A9rique":MAILTO:conseillernumerique@aigondigne.fr
END:VEVENT
END:VCALENDAR