BEGIN:VCALENDAR
VERSION:2.0
PRODID:-//Aigondigné - ECPv4.9.14//NONSGML v1.0//EN
CALSCALE:GREGORIAN
METHOD:PUBLISH
X-WR-CALNAME:Aigondigné
X-ORIGINAL-URL:https://www.aigondigne.fr
X-WR-CALDESC:Évènements pour Aigondigné
BEGIN:VTIMEZONE
TZID:Europe/Paris
BEGIN:DAYLIGHT
TZOFFSETFROM:+0100
TZOFFSETTO:+0200
TZNAME:CEST
DTSTART:20220327T010000
END:DAYLIGHT
BEGIN:STANDARD
TZOFFSETFROM:+0200
TZOFFSETTO:+0100
TZNAME:CET
DTSTART:20221030T010000
END:STANDARD
END:VTIMEZONE
BEGIN:VEVENT
DTSTART;TZID=Europe/Paris:20220611T090000
DTEND;TZID=Europe/Paris:20220611T110000
DTSTAMP:20260421T221617
CREATED:20220524T101814Z
LAST-MODIFIED:20220607T062712Z
UID:10718-1654938000-1654945200@www.aigondigne.fr
SUMMARY:Atelier numérique : Randonnée et numérique
DESCRIPTION:Randonnée et numérique \nInformations et inscriptions : \n\npar mail à conseillernumerique@aigondigne.fr \npar téléphone au 07 55 62 35 83\n\n
URL:https://www.aigondigne.fr/evenement/atelier-numerique-randonnee-et-numerique/
LOCATION:thorigné\, 25 rue de l'école\, Thorigné\, Aigondigné\, 79370\, France
ORGANIZER;CN="CCAS":MAILTO:ccas@aigondigne.fr
END:VEVENT
END:VCALENDAR