BEGIN:VCALENDAR
VERSION:2.0
PRODID:-//Aigondigné - ECPv4.9.14//NONSGML v1.0//EN
CALSCALE:GREGORIAN
METHOD:PUBLISH
X-WR-CALNAME:Aigondigné
X-ORIGINAL-URL:https://www.aigondigne.fr
X-WR-CALDESC:Évènements pour Aigondigné
BEGIN:VTIMEZONE
TZID:Europe/Paris
BEGIN:DAYLIGHT
TZOFFSETFROM:+0100
TZOFFSETTO:+0200
TZNAME:CEST
DTSTART:20220327T010000
END:DAYLIGHT
BEGIN:STANDARD
TZOFFSETFROM:+0200
TZOFFSETTO:+0100
TZNAME:CET
DTSTART:20221030T010000
END:STANDARD
END:VTIMEZONE
BEGIN:VEVENT
DTSTART;TZID=Europe/Paris:20220722T090000
DTEND;TZID=Europe/Paris:20220722T113000
DTSTAMP:20260424T101557
CREATED:20220617T073608Z
LAST-MODIFIED:20220630T095215Z
UID:11030-1658480400-1658489400@www.aigondigne.fr
SUMMARY:Atelier numérique : randonnée Terra Aventura
DESCRIPTION:  \nLe numérique c’est aussi l’outil dans votre poche\, à la place du couteau suisse\, on prend un miroir de poche\, son smartphone et ses chaussures et c’est parti ! \nTout public \n
URL:https://www.aigondigne.fr/evenement/atelier-numerique-randonnee-terra-aventura/
LOCATION:parking du Lambon\, pied l'ouaille\, Prailles La Couarde\, 79370\, France
ORGANIZER;CN="CCAS":MAILTO:ccas@aigondigne.fr
END:VEVENT
END:VCALENDAR