BEGIN:VCALENDAR
VERSION:2.0
PRODID:-//Aigondigné - ECPv4.9.14//NONSGML v1.0//EN
CALSCALE:GREGORIAN
METHOD:PUBLISH
X-WR-CALNAME:Aigondigné
X-ORIGINAL-URL:https://www.aigondigne.fr
X-WR-CALDESC:Évènements pour Aigondigné
BEGIN:VTIMEZONE
TZID:Europe/Paris
BEGIN:DAYLIGHT
TZOFFSETFROM:+0100
TZOFFSETTO:+0200
TZNAME:CEST
DTSTART:20220327T010000
END:DAYLIGHT
BEGIN:STANDARD
TZOFFSETFROM:+0200
TZOFFSETTO:+0100
TZNAME:CET
DTSTART:20221030T010000
END:STANDARD
END:VTIMEZONE
BEGIN:VEVENT
DTSTART;TZID=Europe/Paris:20221210T140000
DTEND;TZID=Europe/Paris:20221210T160000
DTSTAMP:20260420T131142
CREATED:20221122T110044Z
LAST-MODIFIED:20221122T110044Z
UID:12100-1670680800-1670688000@www.aigondigne.fr
SUMMARY:Ateliers créatifs
DESCRIPTION:Inscriptions par email : lizi79@hotmail.fr \nMerci de préciser avant le 26 novembre l’atelier et l’horaire souhaités\, le nombre de participants ainsi que vos coordonnées. \nLes enfants doivent être accompagnés. \n\nAtelier de décoration de sablés – 30 min – dès 3 ans (5 personnes par créneau) : 14h\, 14h30\, 15h\, 15h30\nAtelier bonhomme de neige et ange de noël – 45 minutes – dès 3 ans (5 personnes par créneau) : 14h\, 14h45\, 15h30\nAtelier étoile en pince à linge – 45 minutes – dès 7 ans (5 personnes par créneau) : 14h\, 14h45\, 15h30\nAtelier rondin de bois clouté – 45 minutes – dès 7 ans (5 personnes par créneau) : 14h\, 14h45\, 15h30\nAtelier sapin en bois de palette – 1h – dès 15 ans (4 personnes par créneau ) : 14h – 15h\n\n
URL:https://www.aigondigne.fr/evenement/ateliers-creatifs/
LOCATION:Salle des fêtes de Thorigné\, Carrefour de l'ormeau\, Thorigné\, Aigondigné\, 79370\, France
CATEGORIES:Evènement culturel
ORGANIZER;CN="Commune%20d%27Aigondign%C3%A9":MAILTO:accueil@aigondigne.fr
END:VEVENT
END:VCALENDAR