BEGIN:VCALENDAR
VERSION:2.0
PRODID:-//Aigondigné - ECPv4.9.14//NONSGML v1.0//EN
CALSCALE:GREGORIAN
METHOD:PUBLISH
X-WR-CALNAME:Aigondigné
X-ORIGINAL-URL:https://www.aigondigne.fr
X-WR-CALDESC:Évènements pour Aigondigné
BEGIN:VTIMEZONE
TZID:Europe/Paris
BEGIN:DAYLIGHT
TZOFFSETFROM:+0100
TZOFFSETTO:+0200
TZNAME:CEST
DTSTART:20220327T010000
END:DAYLIGHT
BEGIN:STANDARD
TZOFFSETFROM:+0200
TZOFFSETTO:+0100
TZNAME:CET
DTSTART:20221030T010000
END:STANDARD
END:VTIMEZONE
BEGIN:VEVENT
DTSTART;TZID=Europe/Paris:20220721T183000
DTEND;TZID=Europe/Paris:20220721T193000
DTSTAMP:20260424T113421
CREATED:20220620T135546Z
LAST-MODIFIED:20220721T061838Z
UID:11044-1658428200-1658431800@www.aigondigne.fr
SUMMARY:Atemporelle : visite guidée d'Aigonnay
DESCRIPTION:Point de départ : mairie d’Aigonnay \nBillets (6€) en vente auprès du guide \n
URL:https://www.aigondigne.fr/evenement/atemporelle-visite-guidee-daigonnay/
LOCATION:mairie déléguée d’aigonnay\, 6 route de la rivière\, aigondigné\, 79370
ATTACH;FMTTYPE=image/jpeg:https://www.aigondigne.fr/wp-content/uploads/2022/06/IMG_8226.jpg
ORGANIZER;CN="Atemporelle":MAILTO:contact@atemporelle.org
END:VEVENT
END:VCALENDAR