BEGIN:VCALENDAR
VERSION:2.0
PRODID:-//Aigondigné - ECPv4.9.14//NONSGML v1.0//EN
CALSCALE:GREGORIAN
METHOD:PUBLISH
X-WR-CALNAME:Aigondigné
X-ORIGINAL-URL:https://www.aigondigne.fr
X-WR-CALDESC:Évènements pour Aigondigné
BEGIN:VTIMEZONE
TZID:Europe/Paris
BEGIN:DAYLIGHT
TZOFFSETFROM:+0100
TZOFFSETTO:+0200
TZNAME:CEST
DTSTART:20260329T010000
END:DAYLIGHT
BEGIN:STANDARD
TZOFFSETFROM:+0200
TZOFFSETTO:+0100
TZNAME:CET
DTSTART:20261025T010000
END:STANDARD
END:VTIMEZONE
BEGIN:VEVENT
DTSTART;TZID=Europe/Paris:20260530T100000
DTEND;TZID=Europe/Paris:20260530T104500
DTSTAMP:20260421T115246
CREATED:20260120T150244Z
LAST-MODIFIED:20260120T150430Z
UID:19813-1780135200-1780137900@www.aigondigne.fr
SUMMARY:bébés lecteurs
DESCRIPTION:La bibliothèque d’Aigondigné vous propose un atelier Bébés lecteurs \nle samedi 30 mai de 10h à 10h45 \nà la bibliothèque de Sainte Blandine \nNombre de places limité – Réservation au 07 48 11 54 65 ou bibliotheque@aigondigne.fr \n
URL:https://www.aigondigne.fr/evenement/bebes-lecteurs-6/
LOCATION:Bibliothèque de Tauché – Sainte Blandine\, Aigondigné\, France
CATEGORIES:Evènement culturel
ATTACH;FMTTYPE=image/jpeg:https://www.aigondigne.fr/wp-content/uploads/2026/01/Affiche-atelier-bébé-lecteurs.jpg
ORGANIZER;CN="biblioth%C3%A8que%20d%27Aigondign%C3%A9":MAILTO:bibliotheque@aigondigne.fr
END:VEVENT
END:VCALENDAR