BEGIN:VCALENDAR
VERSION:2.0
PRODID:-//Aigondigné - ECPv4.9.14//NONSGML v1.0//EN
CALSCALE:GREGORIAN
METHOD:PUBLISH
X-WR-CALNAME:Aigondigné
X-ORIGINAL-URL:https://www.aigondigne.fr
X-WR-CALDESC:Évènements pour Aigondigné
BEGIN:VTIMEZONE
TZID:Europe/Paris
BEGIN:DAYLIGHT
TZOFFSETFROM:+0100
TZOFFSETTO:+0200
TZNAME:CEST
DTSTART:20240331T010000
END:DAYLIGHT
BEGIN:STANDARD
TZOFFSETFROM:+0200
TZOFFSETTO:+0100
TZNAME:CET
DTSTART:20241027T010000
END:STANDARD
END:VTIMEZONE
BEGIN:VEVENT
DTSTART;TZID=Europe/Paris:20240222T173000
DTEND;TZID=Europe/Paris:20240222T190000
DTSTAMP:20260424T083929
CREATED:20240209T080227Z
LAST-MODIFIED:20240209T080227Z
UID:14947-1708623000-1708628400@www.aigondigne.fr
SUMMARY:CBE : Validation des Acquis de l'Expérience
DESCRIPTION: \nInscription et informations par téléphone au 05 49 77 22 17 ou par email vae@cma79.fr \n
URL:https://www.aigondigne.fr/evenement/cbe-validation-des-acquis-de-lexperience/
LOCATION:CBE Mellois en Poitou\, 2 rue des Fusains\, Melle\, 79500\, France
CATEGORIES:Emploi/Formation
ATTACH;FMTTYPE=image/jpeg:https://www.aigondigne.fr/wp-content/uploads/2024/02/AFFICHE-VAE-22-02-2024.jpg
ORGANIZER;CN="CBE":MAILTO:secretariat@cbedumellois.fr
END:VEVENT
END:VCALENDAR