BEGIN:VCALENDAR
VERSION:2.0
PRODID:-//Aigondigné - ECPv4.9.14//NONSGML v1.0//EN
CALSCALE:GREGORIAN
METHOD:PUBLISH
X-WR-CALNAME:Aigondigné
X-ORIGINAL-URL:https://www.aigondigne.fr
X-WR-CALDESC:Évènements pour Aigondigné
BEGIN:VTIMEZONE
TZID:Europe/Paris
BEGIN:DAYLIGHT
TZOFFSETFROM:+0100
TZOFFSETTO:+0200
TZNAME:CEST
DTSTART:20210328T010000
END:DAYLIGHT
BEGIN:STANDARD
TZOFFSETFROM:+0200
TZOFFSETTO:+0100
TZNAME:CET
DTSTART:20211031T010000
END:STANDARD
END:VTIMEZONE
BEGIN:VEVENT
DTSTART;VALUE=DATE:20210508
DTEND;VALUE=DATE:20210509
DTSTAMP:20260424T125102
CREATED:20210503T115321Z
LAST-MODIFIED:20210503T115321Z
UID:7307-1620432000-1620518399@www.aigondigne.fr
SUMMARY:Cérémonies du 8 mai
DESCRIPTION:Cette année encore\, en raison du contexte sanitaire\, les cérémonies du 8 mai se tiendront à huis clos devant les monuments aux morts des quatre communes déléguées. \n  \n
URL:https://www.aigondigne.fr/evenement/ceremonies-du-8-mai/
LOCATION:Aigondigné\, Aigondigné\, 79370\, France
ATTACH;FMTTYPE=image/jpeg:https://www.aigondigne.fr/wp-content/uploads/2020/05/Photo-Thorigné-2020-05-08-19-52-17.jpg
ORGANIZER;CN="Commune%20d%27Aigondign%C3%A9":MAILTO:accueil@aigondigne.fr
END:VEVENT
END:VCALENDAR