BEGIN:VCALENDAR
VERSION:2.0
PRODID:-//Aigondigné - ECPv4.9.14//NONSGML v1.0//EN
CALSCALE:GREGORIAN
METHOD:PUBLISH
X-WR-CALNAME:Aigondigné
X-ORIGINAL-URL:https://www.aigondigne.fr
X-WR-CALDESC:Évènements pour Aigondigné
BEGIN:VTIMEZONE
TZID:Europe/Paris
BEGIN:DAYLIGHT
TZOFFSETFROM:+0100
TZOFFSETTO:+0200
TZNAME:CEST
DTSTART:20220327T010000
END:DAYLIGHT
BEGIN:STANDARD
TZOFFSETFROM:+0200
TZOFFSETTO:+0100
TZNAME:CET
DTSTART:20221030T010000
END:STANDARD
END:VTIMEZONE
BEGIN:VEVENT
DTSTART;VALUE=DATE:20220410
DTEND;VALUE=DATE:20220411
DTSTAMP:20260421T155745
CREATED:20211014T132845Z
LAST-MODIFIED:20211014T132845Z
UID:8969-1649548800-1649635199@www.aigondigne.fr
SUMMARY:Chasse aux oeufs
DESCRIPTION:L’APE de Mougon vous propose une chasse aux œufs avec une tombola « chocolat de Pâques ». \nPlus de renseignements auprès de l’APE : https://www.facebook.com/APEMougon \n  \n
URL:https://www.aigondigne.fr/evenement/chasse-aux-oeufs/
LOCATION:Mougon
ATTACH;FMTTYPE=image/jpeg:https://www.aigondigne.fr/wp-content/uploads/2020/03/APE-Mougon-LOGO.jpg
ORGANIZER;CN="APE%20Mougon":MAILTO:apemougon@gmail.com
END:VEVENT
END:VCALENDAR