BEGIN:VCALENDAR
VERSION:2.0
PRODID:-//Aigondigné - ECPv4.9.14//NONSGML v1.0//EN
CALSCALE:GREGORIAN
METHOD:PUBLISH
X-WR-CALNAME:Aigondigné
X-ORIGINAL-URL:https://www.aigondigne.fr
X-WR-CALDESC:Évènements pour Aigondigné
BEGIN:VTIMEZONE
TZID:Europe/Paris
BEGIN:DAYLIGHT
TZOFFSETFROM:+0100
TZOFFSETTO:+0200
TZNAME:CEST
DTSTART:20220327T010000
END:DAYLIGHT
BEGIN:STANDARD
TZOFFSETFROM:+0200
TZOFFSETTO:+0100
TZNAME:CET
DTSTART:20221030T010000
END:STANDARD
END:VTIMEZONE
BEGIN:VEVENT
DTSTART;TZID=Europe/Paris:20220409T100000
DTEND;TZID=Europe/Paris:20220409T120000
DTSTAMP:20260421T141340
CREATED:20220310T140710Z
LAST-MODIFIED:20220322T123703Z
UID:10204-1649498400-1649505600@www.aigondigne.fr
SUMMARY:Collecte de papier
DESCRIPTION:L’APE de Mougon vous propose une collecte de papier journaux\, livres\, publicités\, magazines\, … \nLa benne sera ouverte sur le parking de l’école maternelle\, place de la fruitière à Mougon\, les : \n\nvendredi 8 avril de 16h30 à 18h \nsamedi 9 avril de 10h à 12h\n\n
URL:https://www.aigondigne.fr/evenement/collecte-de-papier-12/
LOCATION:Place de la Fruitière\, Mougon\, Place de la Fruitière\, Mougon\, Aigondigné\, 79370\, France
ORGANIZER;CN="APE%20Mougon":MAILTO:apemougon@gmail.com
END:VEVENT
END:VCALENDAR