BEGIN:VCALENDAR
VERSION:2.0
PRODID:-//Aigondigné - ECPv4.9.14//NONSGML v1.0//EN
CALSCALE:GREGORIAN
METHOD:PUBLISH
X-WR-CALNAME:Aigondigné
X-ORIGINAL-URL:https://www.aigondigne.fr
X-WR-CALDESC:Évènements pour Aigondigné
BEGIN:VTIMEZONE
TZID:Europe/Paris
BEGIN:DAYLIGHT
TZOFFSETFROM:+0100
TZOFFSETTO:+0200
TZNAME:CEST
DTSTART:20220327T010000
END:DAYLIGHT
BEGIN:STANDARD
TZOFFSETFROM:+0200
TZOFFSETTO:+0100
TZNAME:CET
DTSTART:20221030T010000
END:STANDARD
END:VTIMEZONE
BEGIN:VEVENT
DTSTART;TZID=Europe/Paris:20221213T163000
DTEND;TZID=Europe/Paris:20221213T170000
DTSTAMP:20260424T101019
CREATED:20221125T140759Z
LAST-MODIFIED:20221129T152735Z
UID:12134-1670949000-1670950800@www.aigondigne.fr
SUMMARY:Concours "Pull [moche] de Noël"
DESCRIPTION:Concours Photo\nThème : Pull (moche) de Noël \nEnvoyez vos photos et le bulletin de participation avant le mardi 13 décembre par mail à communication@aigondigne.fr. \nRésultat le vendredi 16 décembre pour la Journée du Pull de Noël. \nTéléchargez le Règlement et le bulletin d’inscription \nVoici les lots à gagner pour ce concours : \n\nMiel offert par la Miellerie de Titelle\, Tisane du Jardin de Chanteloup\, pot rillette porc et 1 terrine boudin noir produit par Gaec le Villers\nSavon offert par Bella Savonnerie\, Miel fabriqué par l’abeuille d’Aigouna\, Tisane du Jardin de Chanteloup\, pot rillette porc produit par Gaec le Villers\nBière offerte par la Guiche\, Miel fabriqué par l’abeuille d’Aigouna\n\n  \n
URL:https://www.aigondigne.fr/evenement/concours-pull-moche-de-noel/
ORGANIZER;CN="Commune%20d%27Aigondign%C3%A9":MAILTO:accueil@aigondigne.fr
END:VEVENT
END:VCALENDAR