BEGIN:VCALENDAR
VERSION:2.0
PRODID:-//Aigondigné - ECPv4.9.14//NONSGML v1.0//EN
CALSCALE:GREGORIAN
METHOD:PUBLISH
X-WR-CALNAME:Aigondigné
X-ORIGINAL-URL:https://www.aigondigne.fr
X-WR-CALDESC:Évènements pour Aigondigné
BEGIN:VTIMEZONE
TZID:Europe/Paris
BEGIN:DAYLIGHT
TZOFFSETFROM:+0100
TZOFFSETTO:+0200
TZNAME:CEST
DTSTART:20220327T010000
END:DAYLIGHT
BEGIN:STANDARD
TZOFFSETFROM:+0200
TZOFFSETTO:+0100
TZNAME:CET
DTSTART:20221030T010000
END:STANDARD
END:VTIMEZONE
BEGIN:VEVENT
DTSTART;TZID=Europe/Paris:20220407T093000
DTEND;TZID=Europe/Paris:20220407T120000
DTSTAMP:20260421T102826
CREATED:20220310T141913Z
LAST-MODIFIED:20220310T141913Z
UID:10209-1649323800-1649332800@www.aigondigne.fr
SUMMARY:Connaître le territoire Mellois en Poitou
DESCRIPTION:Objectif de l’atelier : Mieux connaître le tissu économique local\, les filières et les principaux employeurs du Mellois en Poitou \nJeudi 7 avril 2022 de 9h30 à 12h \ndans les locaux du CBE Mellois en Poitou \nCet atelier est co-animé par la Communauté de Communes Mellois en Poitou\, Pôle Emploi et le CBE Mellois en Poitou. \nNombre de places limitées \nInscription obligatoire auprès du CBE Mellois en Poitou au 05 49 27 97 17 \n  \n
URL:https://www.aigondigne.fr/evenement/connaitre-le-territoire-mellois-en-poitou/
LOCATION:CBE Mellois en Poitou\, 2 rue des Fusains\, Melle\, 79500\, France
END:VEVENT
END:VCALENDAR