BEGIN:VCALENDAR
VERSION:2.0
PRODID:-//Aigondigné - ECPv4.9.14//NONSGML v1.0//EN
CALSCALE:GREGORIAN
METHOD:PUBLISH
X-WR-CALNAME:Aigondigné
X-ORIGINAL-URL:https://www.aigondigne.fr
X-WR-CALDESC:Évènements pour Aigondigné
BEGIN:VTIMEZONE
TZID:Europe/Paris
BEGIN:DAYLIGHT
TZOFFSETFROM:+0100
TZOFFSETTO:+0200
TZNAME:CEST
DTSTART:20200329T010000
END:DAYLIGHT
BEGIN:STANDARD
TZOFFSETFROM:+0200
TZOFFSETTO:+0100
TZNAME:CET
DTSTART:20201025T010000
END:STANDARD
END:VTIMEZONE
BEGIN:VEVENT
DTSTART;TZID=Europe/Paris:20201103T203000
DTEND;TZID=Europe/Paris:20201103T223000
DTSTAMP:20260420T091658
CREATED:20201030T134000Z
LAST-MODIFIED:20201030T134000Z
UID:5053-1604435400-1604442600@www.aigondigne.fr
SUMMARY:Conseil municipal
DESCRIPTION:Le prochain Conseil Municipal d’Aigondigné aura lieu le mardi 3 novembre 2020 à 20h30 à la salle des fêtes de Mougon. \nL’ordre du jour est fixé comme suit : \nI. Décision modificative n°1\nII. Tarifs occupation du domaine public\nIII. Convention CPI\nIV. Modification de la commission intercommunale d’aménagement foncier\nV. Ouverture de poste contrat de projet\nVI. Ouverture de poste stagiaire service à la population\nVII. Prise en charge des visites médicales permis poids lourds\nVIII. Renouvellement des PEC (parcours emploi compétences)\nIX. Fixation du taux moyen horaire pour les interventions facturées et travaux en\nrégie\nX. Modification des tarifs de location de salles\nXI. Convention avec la Croix-Rouge pour la collecte de vêtements \nEn raison de l’épidémie COVID19 le public de sera pas admis pour cette séance.. \n
URL:https://www.aigondigne.fr/evenement/conseil-municipal-03112020/
LOCATION:Salle des Fêtes de Mougon\, Place de la Mairie\, Mougon\, Aigondigné\, 79370\, France
ATTACH;FMTTYPE=image/png:https://www.aigondigne.fr/wp-content/uploads/2020/05/Conseil-Municipal-Image.png
END:VEVENT
END:VCALENDAR