BEGIN:VCALENDAR
VERSION:2.0
PRODID:-//Aigondigné - ECPv4.9.14//NONSGML v1.0//EN
CALSCALE:GREGORIAN
METHOD:PUBLISH
X-WR-CALNAME:Aigondigné
X-ORIGINAL-URL:https://www.aigondigne.fr
X-WR-CALDESC:Évènements pour Aigondigné
BEGIN:VTIMEZONE
TZID:Europe/Paris
BEGIN:DAYLIGHT
TZOFFSETFROM:+0100
TZOFFSETTO:+0200
TZNAME:CEST
DTSTART:20220327T010000
END:DAYLIGHT
BEGIN:STANDARD
TZOFFSETFROM:+0200
TZOFFSETTO:+0100
TZNAME:CET
DTSTART:20221030T010000
END:STANDARD
END:VTIMEZONE
BEGIN:VEVENT
DTSTART;TZID=Europe/Paris:20221213T203000
DTEND;TZID=Europe/Paris:20221213T220000
DTSTAMP:20260424T113939
CREATED:20221208T073800Z
LAST-MODIFIED:20221212T154646Z
UID:12183-1670963400-1670968800@www.aigondigne.fr
SUMMARY:Conseil Municipal
DESCRIPTION:Le prochain Conseil Municipal se tiendra le mardi 13 décembre à 20h30 à la salle des fêtes de Mougon. \nL’ordre du jour est fixé comme suit : \nI. Décision modificative n°3 budget principal\nII. Autorisation de mandater les dépenses d’investissement\nIII. Régime des amortissements et fongibilité des crédits nomenclature M57\nIV. Fixation de la participation dans le cadre de l’accueil des élèves domiciliés hors commune\nV. Fixation du tarif pour l’achat de miroir routier à l’usage d’un habitant\nVI. Remboursement des élus congrès des maires\nVII. Convention de mise à disposition du vestiaire de Thorigné à l’entente sportive Celles/ Verrines\nVIII. Avis sur la révision partielle du SAGE Boutonne\nIX. Modification de la délibération relative à l‘attribution des chèques cadeaux Noël\nX. Ouvertures de poste agents contractuels\nXI. Contrat groupe d’assurance des risques statutaires : Mandatement pour participation à la mise en concurrence.\nInformations diverses \n
URL:https://www.aigondigne.fr/evenement/conseil-municipal-13122022/
LOCATION:salle des fêtes de Mougon\, Place de la mairie\, Mougon\, 79370\, France
ATTACH;FMTTYPE=image/png:https://www.aigondigne.fr/wp-content/uploads/2021/10/Conseil-Municipal-Image.png
ORGANIZER;CN="Commune%20d%27Aigondign%C3%A9":MAILTO:accueil@aigondigne.fr
END:VEVENT
END:VCALENDAR