BEGIN:VCALENDAR
VERSION:2.0
PRODID:-//Aigondigné - ECPv4.9.14//NONSGML v1.0//EN
CALSCALE:GREGORIAN
METHOD:PUBLISH
X-WR-CALNAME:Aigondigné
X-ORIGINAL-URL:https://www.aigondigne.fr
X-WR-CALDESC:Évènements pour Aigondigné
BEGIN:VTIMEZONE
TZID:Europe/Paris
BEGIN:DAYLIGHT
TZOFFSETFROM:+0100
TZOFFSETTO:+0200
TZNAME:CEST
DTSTART:20250330T010000
END:DAYLIGHT
BEGIN:STANDARD
TZOFFSETFROM:+0200
TZOFFSETTO:+0100
TZNAME:CET
DTSTART:20251026T010000
END:STANDARD
END:VTIMEZONE
BEGIN:VEVENT
DTSTART;TZID=Europe/Paris:20250923T203000
DTEND;TZID=Europe/Paris:20250923T220000
DTSTAMP:20260423T145228
CREATED:20250919T071046Z
LAST-MODIFIED:20250919T094352Z
UID:19033-1758659400-1758664800@www.aigondigne.fr
SUMMARY:Conseil municipal
DESCRIPTION:Le prochain conseil municipal se tiendra le mardi 23 septembre à 20h30 à la salle des fêtes de Mougon. \nL’ordre du jour est fixé comme suit : \n  \nApprobation du procès-verbal du Conseil municipal du 08 juillet 2025 \nAFFAIRES GÉNÉRALES \nI. Nomination d’un nouveau membre de la Commission Intercommunale des Affaires Foncières \nII. Approbation de l’avenant n°2 de la convention d’Opération de Revitalisation du Territoire (ORT) de Mellois en Poitou \nMARCHÉS PUBLICS \nIII. Attribution marché de service de maîtrise d’oeuvre de la salle multisports en phase 2 \nIV. Attribution marché de service de maîtrise d’oeuvre de la Polarité Gaillard \nFINANCES \nV. Décision Modificative n°2 budget principal 44600 \nVI. Remboursement de deux élus \nAFFAIRES FONCIÈRES/URBANISME \nVII. Convention Commodat Chaloue \nVIII. Convention Commodat Prés Antogné \nIX. Convention Commodat Tauché \nX. Nomination Voie Communale au lieu-dit Charcogné à Mougon \nXI. Nomination Voie Communale au lieu-dit Les Gazelières à Thorigné \nXII. Projet d’emplacements réservés parcelles C1172 et C1199 \nXIII. Proposition de préemption en vue de l’acquisition d’un bien destiné à l’installation d’une Maison d’Assistantes Maternelles \nAFFAIRES SCOLAIRES \nXIV. Bilan de rentrée scolaire (info) \nINFORMATIONS DIVERSES \nXV. Engagements pris par délégation \nXVI. Point travaux Service Technique \nXVII. Animations à venir \nXVIII. Agenda \n
URL:https://www.aigondigne.fr/evenement/conseil-municipal-23-09-2025/
LOCATION:salle des fêtes de Mougon\, Place de la mairie\, Mougon\, 79370\, France
CATEGORIES:Conseil Municipal
ATTACH;FMTTYPE=image/png:https://www.aigondigne.fr/wp-content/uploads/2021/10/Conseil-Municipal-Image.png
ORGANIZER;CN="Commune%20d%27Aigondign%C3%A9":MAILTO:accueil@aigondigne.fr
END:VEVENT
END:VCALENDAR