BEGIN:VCALENDAR
VERSION:2.0
PRODID:-//Aigondigné - ECPv4.9.14//NONSGML v1.0//EN
CALSCALE:GREGORIAN
METHOD:PUBLISH
X-WR-CALNAME:Aigondigné
X-ORIGINAL-URL:https://www.aigondigne.fr
X-WR-CALDESC:Évènements pour Aigondigné
BEGIN:VTIMEZONE
TZID:Europe/Paris
BEGIN:DAYLIGHT
TZOFFSETFROM:+0100
TZOFFSETTO:+0200
TZNAME:CEST
DTSTART:20250330T010000
END:DAYLIGHT
BEGIN:STANDARD
TZOFFSETFROM:+0200
TZOFFSETTO:+0100
TZNAME:CET
DTSTART:20251026T010000
END:STANDARD
END:VTIMEZONE
BEGIN:VEVENT
DTSTART;TZID=Europe/Paris:20250916T203000
DTEND;TZID=Europe/Paris:20250916T223000
DTSTAMP:20260423T213640
CREATED:20250902T080220Z
LAST-MODIFIED:20250902T080220Z
UID:18939-1758054600-1758061800@www.aigondigne.fr
SUMMARY:Conseil Municipal
DESCRIPTION:Le prochain conseil municipal se tiendra le mardi 16 septembre  à 20h30 à la salle des fêtes de Mougon. \nL’ordre du jour\, à sujet unique\, est fixé comme suit : \nAffaires foncières/ Urbanisme\nI. PLUi-H proposé par la communauté de communes Mellois en Poitou. \n
URL:https://www.aigondigne.fr/evenement/conseil-municipal-5/
LOCATION:salle des fêtes de Mougon\, Place de la mairie\, Mougon\, 79370\, France
CATEGORIES:Conseil Municipal
ATTACH;FMTTYPE=image/png:https://www.aigondigne.fr/wp-content/uploads/2025/02/Conseil-Municipal-Image.png
ORGANIZER;CN="Commune%20d%27Aigondign%C3%A9":MAILTO:accueil@aigondigne.fr
END:VEVENT
END:VCALENDAR