BEGIN:VCALENDAR
VERSION:2.0
PRODID:-//Aigondigné - ECPv4.9.14//NONSGML v1.0//EN
CALSCALE:GREGORIAN
METHOD:PUBLISH
X-WR-CALNAME:Aigondigné
X-ORIGINAL-URL:https://www.aigondigne.fr
X-WR-CALDESC:Évènements pour Aigondigné
BEGIN:VTIMEZONE
TZID:Europe/Paris
BEGIN:DAYLIGHT
TZOFFSETFROM:+0100
TZOFFSETTO:+0200
TZNAME:CEST
DTSTART:20210328T010000
END:DAYLIGHT
BEGIN:STANDARD
TZOFFSETFROM:+0200
TZOFFSETTO:+0100
TZNAME:CET
DTSTART:20211031T010000
END:STANDARD
END:VTIMEZONE
BEGIN:VEVENT
DTSTART;TZID=Europe/Paris:20210529T113000
DTEND;TZID=Europe/Paris:20210529T130000
DTSTAMP:20260424T083906
CREATED:20210427T064149Z
LAST-MODIFIED:20210427T064149Z
UID:7229-1622287800-1622293200@www.aigondigne.fr
SUMMARY:Couscous à emporter
DESCRIPTION:L’APE de Tauché-Thorigné vous propose un couscous à emporter \nle samedi 29 mai 2021 \n12€ la part \nDistribution à partir de 11h30 sous le préau de Tauché \nPré-réservation avant le 17 mai 2021 auprès de : \n\nÉlodie FAUGER : 06 09 51 64 37\nSéverine Stosic : 06 79 71 59 68\n\nRèglement et coupon-réponse ci-contre à faire parvenir à l’APE (par le biais des enfants de l’école\, ou à l’adresse indiquée lors de votre appel de pré-réservation). \n  \n
URL:https://www.aigondigne.fr/evenement/couscous-a-emporter/
LOCATION:préau de Tauché\, 26 rue Jacques Bujault\, Tauché\, Aigondigné\, 79370\, France
ATTACH;FMTTYPE=image/jpeg:https://www.aigondigne.fr/wp-content/uploads/2021/04/couscous-3440042_1920.jpg
ORGANIZER;CN="APE%20Tauch%C3%A9-Thorign%C3%A9":MAILTO:rpi.tauche.thorigne@gmail.com
END:VEVENT
END:VCALENDAR