BEGIN:VCALENDAR
VERSION:2.0
PRODID:-//Aigondigné - ECPv4.9.14//NONSGML v1.0//EN
CALSCALE:GREGORIAN
METHOD:PUBLISH
X-WR-CALNAME:Aigondigné
X-ORIGINAL-URL:https://www.aigondigne.fr
X-WR-CALDESC:Évènements pour Aigondigné
BEGIN:VTIMEZONE
TZID:Europe/Paris
BEGIN:DAYLIGHT
TZOFFSETFROM:+0100
TZOFFSETTO:+0200
TZNAME:CEST
DTSTART:20260329T010000
END:DAYLIGHT
BEGIN:STANDARD
TZOFFSETFROM:+0200
TZOFFSETTO:+0100
TZNAME:CET
DTSTART:20261025T010000
END:STANDARD
END:VTIMEZONE
BEGIN:VEVENT
DTSTART;VALUE=DATE:20260615
DTEND;VALUE=DATE:20260616
DTSTAMP:20260421T184152
CREATED:20260327T154224Z
LAST-MODIFIED:20260327T154224Z
UID:20271-1781481600-1781567999@www.aigondigne.fr
SUMMARY:Déchèterie : passage aux horaires d'été
DESCRIPTION:Du 15 juin au 31 août\, la déchèterie de Mougon est ouverte du lundi au samedi de 7h à 13h\nPour plus d’informations\, contactez la Direction de la prévention et gestion des déchets au 05 49 27 56 79 ou preventiongestiondechet@melloisenpoitou.fr  \n
URL:https://www.aigondigne.fr/evenement/decheterie-passage-aux-horaires-dete/
LOCATION:Déchèterie de Mougon\, Route de Fressines\, Mougon\, 79370\, France
CATEGORIES:Environnement
ATTACH;FMTTYPE=image/jpeg:https://www.aigondigne.fr/wp-content/uploads/2026/03/nick-fewings-2lJGRIY5P0-unsplash.jpg
END:VEVENT
END:VCALENDAR