BEGIN:VCALENDAR
VERSION:2.0
PRODID:-//Aigondigné - ECPv4.9.14//NONSGML v1.0//EN
CALSCALE:GREGORIAN
METHOD:PUBLISH
X-WR-CALNAME:Aigondigné
X-ORIGINAL-URL:https://www.aigondigne.fr
X-WR-CALDESC:Évènements pour Aigondigné
BEGIN:VTIMEZONE
TZID:Europe/Paris
BEGIN:DAYLIGHT
TZOFFSETFROM:+0100
TZOFFSETTO:+0200
TZNAME:CEST
DTSTART:20240331T010000
END:DAYLIGHT
BEGIN:STANDARD
TZOFFSETFROM:+0200
TZOFFSETTO:+0100
TZNAME:CET
DTSTART:20241027T010000
END:STANDARD
END:VTIMEZONE
BEGIN:VEVENT
DTSTART;TZID=Europe/Paris:20240406T100000
DTEND;TZID=Europe/Paris:20240406T120000
DTSTAMP:20260424T113732
CREATED:20240402T075258Z
LAST-MODIFIED:20240402T075258Z
UID:15436-1712397600-1712404800@www.aigondigne.fr
SUMMARY:Demande de carte d'accès déchèterie
DESCRIPTION:Les Aigondignois·e·s qui souhaitent commander une carte d’accès pour la déchèterie de Mougon et qui n’ont pas la possibilité de le faire en ligne peuvent se présenter aux permanences suivantes : \n\nle samedi 6 avril de 10h à 12h à la salle des fêtes d’Aigonnay\nle samedi 13 avril de 10h à 12h à la mairie de Tauché\n\nIl vous sera nécessaire de vous munir d’un justificatif de domicile de moins de 6 mois. \nPour plus d’informations : CLIQUEZ ICI \n  \n
URL:https://www.aigondigne.fr/evenement/demande-de-carte-dacces-decheterie/
LOCATION:Salle des fêtes d’Aigonnay\, 2 route de Magné\, Aigondigné\, 79370\, France
CATEGORIES:Solidarité
ATTACH;FMTTYPE=image/jpeg:https://www.aigondigne.fr/wp-content/uploads/2024/03/carte-déchèterie.jpg
ORGANIZER;CN="Commune%20d%27Aigondign%C3%A9":MAILTO:accueil@aigondigne.fr
END:VEVENT
END:VCALENDAR