BEGIN:VCALENDAR
VERSION:2.0
PRODID:-//Aigondigné - ECPv4.9.14//NONSGML v1.0//EN
CALSCALE:GREGORIAN
METHOD:PUBLISH
X-WR-CALNAME:Aigondigné
X-ORIGINAL-URL:https://www.aigondigne.fr
X-WR-CALDESC:Évènements pour Aigondigné
BEGIN:VTIMEZONE
TZID:Europe/Paris
BEGIN:DAYLIGHT
TZOFFSETFROM:+0100
TZOFFSETTO:+0200
TZNAME:CEST
DTSTART:20250330T010000
END:DAYLIGHT
BEGIN:STANDARD
TZOFFSETFROM:+0200
TZOFFSETTO:+0100
TZNAME:CET
DTSTART:20251026T010000
END:STANDARD
END:VTIMEZONE
BEGIN:VEVENT
DTSTART;VALUE=DATE:20251004
DTEND;VALUE=DATE:20251005
DTSTAMP:20260423T124141
CREATED:20250710T114750Z
LAST-MODIFIED:20250710T115554Z
UID:18534-1759536000-1759622399@www.aigondigne.fr
SUMMARY:Distribution de composteurs
DESCRIPTION:Samedi 4 octobre 2025 à la salle Hubert \nPlus d’informations à venir  \n  \n
URL:https://www.aigondigne.fr/evenement/distribution-de-composteurs-4/
LOCATION:salle Hubert\, carrefour des Ormeaux\, Thorigné\, Aigondigné\, 79370\, France
CATEGORIES:biodiversité
ATTACH;FMTTYPE=image/jpeg:https://www.aigondigne.fr/wp-content/uploads/2025/03/environmental-conservation-plant-sustainability.jpg
END:VEVENT
END:VCALENDAR