BEGIN:VCALENDAR
VERSION:2.0
PRODID:-//Aigondigné - ECPv4.9.14//NONSGML v1.0//EN
CALSCALE:GREGORIAN
METHOD:PUBLISH
X-WR-CALNAME:Aigondigné
X-ORIGINAL-URL:https://www.aigondigne.fr
X-WR-CALDESC:Évènements pour Aigondigné
BEGIN:VTIMEZONE
TZID:Europe/Paris
BEGIN:DAYLIGHT
TZOFFSETFROM:+0100
TZOFFSETTO:+0200
TZNAME:CEST
DTSTART:20260329T010000
END:DAYLIGHT
BEGIN:STANDARD
TZOFFSETFROM:+0200
TZOFFSETTO:+0100
TZNAME:CET
DTSTART:20261025T010000
END:STANDARD
END:VTIMEZONE
BEGIN:VEVENT
DTSTART;TZID=Europe/Paris:20260530T100000
DTEND;TZID=Europe/Paris:20260530T110000
DTSTAMP:20260421T102040
CREATED:20260114T153925Z
LAST-MODIFIED:20260114T153925Z
UID:19706-1780135200-1780138800@www.aigondigne.fr
SUMMARY:Distribution de composteurs
DESCRIPTION:Offrez une seconde vie à vos biodéchets\, compostez-les ! \nInitiation au compostage et distribution de composteurs \nGratuit – Inscription obligatoire auprès de Mellois en Poitou : CLIQUEZ ICI ou 05 49 27 56 79 \nOpération ouverte à tous les habitants du territoire Mellois en Poitou\, quelle que soit leur commune de résidence  \n \n
URL:https://www.aigondigne.fr/evenement/distribution-de-composteurs-7/
LOCATION:Place de la Gasse\, place de la gasse\, Mougon\, Aigondigné\, 79370\, France
CATEGORIES:biodiversité
ATTACH;FMTTYPE=image/jpeg:https://www.aigondigne.fr/wp-content/uploads/2026/01/flyer-2026_page-0001.jpg
END:VEVENT
END:VCALENDAR