BEGIN:VCALENDAR
VERSION:2.0
PRODID:-//Aigondigné - ECPv4.9.14//NONSGML v1.0//EN
CALSCALE:GREGORIAN
METHOD:PUBLISH
X-WR-CALNAME:Aigondigné
X-ORIGINAL-URL:https://www.aigondigne.fr
X-WR-CALDESC:Évènements pour Aigondigné
BEGIN:VTIMEZONE
TZID:Europe/Paris
BEGIN:DAYLIGHT
TZOFFSETFROM:+0100
TZOFFSETTO:+0200
TZNAME:CEST
DTSTART:20240331T010000
END:DAYLIGHT
BEGIN:STANDARD
TZOFFSETFROM:+0200
TZOFFSETTO:+0100
TZNAME:CET
DTSTART:20241027T010000
END:STANDARD
END:VTIMEZONE
BEGIN:VEVENT
DTSTART;TZID=Europe/Paris:20240707T203000
DTEND;TZID=Europe/Paris:20240707T220000
DTSTAMP:20260424T153529
CREATED:20240607T132249Z
LAST-MODIFIED:20240701T062854Z
UID:15927-1720384200-1720389600@www.aigondigne.fr
SUMMARY:EUROCHESTRIES
DESCRIPTION:Orquesta de Jaslisco (Mexique) vous propose un concert \nle dimanche 7 juillet à 20h30 à la salle des fêtes de Tauché \nPlus d’informations : CLIQUEZ ICI \n
URL:https://www.aigondigne.fr/evenement/eurochestries-4/
LOCATION:église de Mougon\, chemin bas\, Mougon\, Aigondigné\, 79370\, France
CATEGORIES:Evènement culturel
ATTACH;FMTTYPE=image/jpeg:https://www.aigondigne.fr/wp-content/uploads/2024/06/Affiche-A4-eurochestrie_2024_page-0001.jpg
ORGANIZER;CN="Eurochestries":MAILTO:infos@eurochestries.org
END:VEVENT
END:VCALENDAR