BEGIN:VCALENDAR
VERSION:2.0
PRODID:-//Aigondigné - ECPv4.9.14//NONSGML v1.0//EN
CALSCALE:GREGORIAN
METHOD:PUBLISH
X-WR-CALNAME:Aigondigné
X-ORIGINAL-URL:https://www.aigondigne.fr
X-WR-CALDESC:Évènements pour Aigondigné
BEGIN:VTIMEZONE
TZID:Europe/Paris
BEGIN:DAYLIGHT
TZOFFSETFROM:+0100
TZOFFSETTO:+0200
TZNAME:CEST
DTSTART:20230326T010000
END:DAYLIGHT
BEGIN:STANDARD
TZOFFSETFROM:+0200
TZOFFSETTO:+0100
TZNAME:CET
DTSTART:20231029T010000
END:STANDARD
END:VTIMEZONE
BEGIN:VEVENT
DTSTART;TZID=Europe/Paris:20230508T120000
DTEND;TZID=Europe/Paris:20230508T130000
DTSTAMP:20260424T083907
CREATED:20230505T090941Z
LAST-MODIFIED:20230505T144257Z
UID:12937-1683547200-1683550800@www.aigondigne.fr
SUMMARY:Exposition Pegasus Bridge
DESCRIPTION:Pegasus Bridge : l’histoire et les costumes des soldats anglais qui nous ont libérés \nA l’issue de la cérémonie du 8 mai se tiendra une exposition de costumes des aviateurs et parachutistes anglais de la deuxième guerre mondiale à la salle des fêtes d’Aigonnay. \nEXPOSITION GRATUITE \n
URL:https://www.aigondigne.fr/evenement/expo-pegasus-bridge/
LOCATION:salle des fêtes d’Aigonnay\, 2 route de Magné\, Aigonnay\, Aigondigné\, 79370\, France
CATEGORIES:Evènement culturel
ATTACH;FMTTYPE=image/jpeg:https://www.aigondigne.fr/wp-content/uploads/2023/05/EXPO-PEGASUS-BRIDGE.jpg
END:VEVENT
END:VCALENDAR