BEGIN:VCALENDAR
VERSION:2.0
PRODID:-//Aigondigné - ECPv4.9.14//NONSGML v1.0//EN
CALSCALE:GREGORIAN
METHOD:PUBLISH
X-WR-CALNAME:Aigondigné
X-ORIGINAL-URL:https://www.aigondigne.fr
X-WR-CALDESC:Évènements pour Aigondigné
BEGIN:VTIMEZONE
TZID:Europe/Paris
BEGIN:DAYLIGHT
TZOFFSETFROM:+0100
TZOFFSETTO:+0200
TZNAME:CEST
DTSTART:20220327T010000
END:DAYLIGHT
BEGIN:STANDARD
TZOFFSETFROM:+0200
TZOFFSETTO:+0100
TZNAME:CET
DTSTART:20221030T010000
END:STANDARD
END:VTIMEZONE
BEGIN:VEVENT
DTSTART;TZID=Europe/Paris:20220521T100000
DTEND;TZID=Europe/Paris:20220521T190000
DTSTAMP:20260421T132347
CREATED:20220425T145630Z
LAST-MODIFIED:20220425T145630Z
UID:10581-1653127200-1653159600@www.aigondigne.fr
SUMMARY:Fête du jeu
DESCRIPTION:La 13ème édition de la fête du jeu se tiendra \nà la base de loisirs du Lambon \nle samedi 21 mai de 10h à 19h \n
URL:https://www.aigondigne.fr/evenement/fete-du-jeu/
LOCATION:Base de loisirs du Lambon\, Lieu-dit Pied l'Ouaille 46°18'02.9"N 0°12'23.7"W ou 46.300806\, -0.206583\, Prailles\, 79370\, France
ORGANIZER;CN="Ludoth%C3%A8que%20Malle%20aux%20Jeux":MAILTO:ludotheque.celles@melloisenpoitou.fr
END:VEVENT
END:VCALENDAR