BEGIN:VCALENDAR
VERSION:2.0
PRODID:-//Aigondigné - ECPv4.9.14//NONSGML v1.0//EN
CALSCALE:GREGORIAN
METHOD:PUBLISH
X-WR-CALNAME:Aigondigné
X-ORIGINAL-URL:https://www.aigondigne.fr
X-WR-CALDESC:Évènements pour Aigondigné
BEGIN:VTIMEZONE
TZID:Europe/Paris
BEGIN:DAYLIGHT
TZOFFSETFROM:+0100
TZOFFSETTO:+0200
TZNAME:CEST
DTSTART:20260329T010000
END:DAYLIGHT
BEGIN:STANDARD
TZOFFSETFROM:+0200
TZOFFSETTO:+0100
TZNAME:CET
DTSTART:20261025T010000
END:STANDARD
END:VTIMEZONE
BEGIN:VEVENT
DTSTART;VALUE=DATE:20260419
DTEND;VALUE=DATE:20260420
DTSTAMP:20260421T082231
CREATED:20260402T145150Z
LAST-MODIFIED:20260402T145150Z
UID:20292-1776556800-1776643199@www.aigondigne.fr
SUMMARY:Foire aux gerniers
DESCRIPTION:Tout se vend\, et tout s’achète ! \nL’ACCA de Thorigné vous propose sa 31ème foire aux greniers le dimanche 19 avril 2026 à Thorigné (salle des fêtes et espace four).\nBuvette\, sandwich et repas sur place\nEntrée à 6h30 pour les exposants\n2€ le mètre linéaire (min 3m) avec ou sans réservation\nInformations et réservations au 06 99 11 06 21 ou 06 18 50 99\n
URL:https://www.aigondigne.fr/evenement/foire-aux-gerniers-2026/
LOCATION:Salle des fêtes de Thorigné\, Carrefour de l'ormeau\, Thorigné\, Aigondigné\, 79370\, France
CATEGORIES:Marché/brocante/vide-greniers
ATTACH;FMTTYPE=image/jpeg:https://www.aigondigne.fr/wp-content/uploads/2026/04/jackmac34-flea-market-1883689.jpg
END:VEVENT
END:VCALENDAR