BEGIN:VCALENDAR
VERSION:2.0
PRODID:-//Aigondigné - ECPv4.9.14//NONSGML v1.0//EN
CALSCALE:GREGORIAN
METHOD:PUBLISH
X-WR-CALNAME:Aigondigné
X-ORIGINAL-URL:https://www.aigondigne.fr
X-WR-CALDESC:Évènements pour Aigondigné
BEGIN:VTIMEZONE
TZID:Europe/Paris
BEGIN:DAYLIGHT
TZOFFSETFROM:+0100
TZOFFSETTO:+0200
TZNAME:CEST
DTSTART:20250330T010000
END:DAYLIGHT
BEGIN:STANDARD
TZOFFSETFROM:+0200
TZOFFSETTO:+0100
TZNAME:CET
DTSTART:20251026T010000
END:STANDARD
END:VTIMEZONE
BEGIN:VEVENT
DTSTART;TZID=Europe/Paris:20250913T140000
DTEND;TZID=Europe/Paris:20250913T180000
DTSTAMP:20260424T003502
CREATED:20250624T120052Z
LAST-MODIFIED:20250902T072059Z
UID:18071-1757772000-1757786400@www.aigondigne.fr
SUMMARY:Forum des Associations
DESCRIPTION:Rendez-vous le samedi 13 septembre 2025 de 14H00 à 18H00 à l’Espace Marcel Moreau à Thorigné.  \n  \n
URL:https://www.aigondigne.fr/evenement/forum-des-associations-5/
LOCATION:Espace Marcel Moreau
CATEGORIES:Forum/Salon
ATTACH;FMTTYPE=image/png:https://www.aigondigne.fr/wp-content/uploads/2025/06/Affiche-2025.png
ORGANIZER;CN="Commune%20d%27Aigondign%C3%A9":MAILTO:accueil@aigondigne.fr
END:VEVENT
END:VCALENDAR