BEGIN:VCALENDAR
VERSION:2.0
PRODID:-//Aigondigné - ECPv4.9.14//NONSGML v1.0//EN
CALSCALE:GREGORIAN
METHOD:PUBLISH
X-WR-CALNAME:Aigondigné
X-ORIGINAL-URL:https://www.aigondigne.fr
X-WR-CALDESC:Évènements pour Aigondigné
BEGIN:VTIMEZONE
TZID:Europe/Paris
BEGIN:DAYLIGHT
TZOFFSETFROM:+0100
TZOFFSETTO:+0200
TZNAME:CEST
DTSTART:20240331T010000
END:DAYLIGHT
BEGIN:STANDARD
TZOFFSETFROM:+0200
TZOFFSETTO:+0100
TZNAME:CET
DTSTART:20241027T010000
END:STANDARD
END:VTIMEZONE
BEGIN:VEVENT
DTSTART;TZID=Europe/Paris:20241016T183000
DTEND;TZID=Europe/Paris:20241016T200000
DTSTAMP:20260419T130848
CREATED:20240618T090755Z
LAST-MODIFIED:20240926T103023Z
UID:15973-1729103400-1729108800@www.aigondigne.fr
SUMMARY:Guillaume Bouzard ramène sa science
DESCRIPTION:Guillaume Bouzard mobilise son humour pour illustrer des travaux scientifiques dans un « show » d’information sur le changement climatique ou la biodiversité. Mais comme il préfère se raconter lui-même\, il partagera avec vous son intérêt pour les sciences\, et ses dessins. \nVous ne connaissez pas Guillaume Bouzard et vous voulez voir un aperçu de ses œuvres ? RDV en page ACTU de notre site \nRencontre animée par la librairie Le Matoulu dans le cadre du programme Terre de Lecture(s). \nInformations et réservation au 07 48 11 54 65 ou bibliotheque@aigondigne.fr \nFascicule programme Terre de Lecture(s) octobre 2024 \n
URL:https://www.aigondigne.fr/evenement/guillaume-bouzard-ramene-sa-science/
LOCATION:Bibliothèque de Thorigné\, 25 rue de l'école\, Thorigné\, Aigondigné\, 79370\, France
CATEGORIES:Evènement culturel
ATTACH;FMTTYPE=image/jpeg:https://www.aigondigne.fr/wp-content/uploads/2024/09/Affiche-Guillaume-Bouzard.jpg
END:VEVENT
END:VCALENDAR