BEGIN:VCALENDAR
VERSION:2.0
PRODID:-//Aigondigné - ECPv4.9.14//NONSGML v1.0//EN
CALSCALE:GREGORIAN
METHOD:PUBLISH
X-WR-CALNAME:Aigondigné
X-ORIGINAL-URL:https://www.aigondigne.fr
X-WR-CALDESC:Évènements pour Aigondigné
BEGIN:VTIMEZONE
TZID:Europe/Paris
BEGIN:DAYLIGHT
TZOFFSETFROM:+0100
TZOFFSETTO:+0200
TZNAME:CEST
DTSTART:20240331T010000
END:DAYLIGHT
BEGIN:STANDARD
TZOFFSETFROM:+0200
TZOFFSETTO:+0100
TZNAME:CET
DTSTART:20241027T010000
END:STANDARD
END:VTIMEZONE
BEGIN:VEVENT
DTSTART;TZID=Europe/Paris:20240927T180000
DTEND;TZID=Europe/Paris:20240927T200000
DTSTAMP:20260424T083953
CREATED:20240830T135338Z
LAST-MODIFIED:20240910T063638Z
UID:16379-1727460000-1727467200@www.aigondigne.fr
SUMMARY:Inauguration du local L'R du Temps
DESCRIPTION:L’association L’R du Temps inaugure son local le vendredi 27 septembre à 18h. \nVenez à notre rencontre\, découvrez l’association et partageons un moment convivial\, tout simplement. \n
URL:https://www.aigondigne.fr/evenement/inauguration-du-local-lr-du-temps/
LOCATION:Local L’R du Temps\, rue Jacques Bujault\, Tauché\, Aigondigné\, 79370\, France
CATEGORIES:Atelier
ATTACH;FMTTYPE=image/jpeg:https://www.aigondigne.fr/wp-content/uploads/2024/08/Affiche-inauguration-270924_page-0001.jpg
ORGANIZER;CN="L%27R%20du%20temps":MAILTO:lrdt.asso@gmail.com
END:VEVENT
END:VCALENDAR