BEGIN:VCALENDAR
VERSION:2.0
PRODID:-//Aigondigné - ECPv4.9.14//NONSGML v1.0//EN
CALSCALE:GREGORIAN
METHOD:PUBLISH
X-WR-CALNAME:Aigondigné
X-ORIGINAL-URL:https://www.aigondigne.fr
X-WR-CALDESC:Évènements pour Aigondigné
BEGIN:VTIMEZONE
TZID:Europe/Paris
BEGIN:DAYLIGHT
TZOFFSETFROM:+0100
TZOFFSETTO:+0200
TZNAME:CEST
DTSTART:20240331T010000
END:DAYLIGHT
BEGIN:STANDARD
TZOFFSETFROM:+0200
TZOFFSETTO:+0100
TZNAME:CET
DTSTART:20241027T010000
END:STANDARD
END:VTIMEZONE
BEGIN:VEVENT
DTSTART;TZID=Europe/Paris:20240316T093000
DTEND;TZID=Europe/Paris:20240316T113000
DTSTAMP:20260421T100112
CREATED:20240205T152802Z
LAST-MODIFIED:20240312T102855Z
UID:14892-1710581400-1710588600@www.aigondigne.fr
SUMMARY:J'aime la nature propre
DESCRIPTION:De nombreux dépôts sauvages et déchets s’accumulent encore trop souvent dans nos campagnes\, nos fleuves et nos rivières… C’est pourquoi\, la Fédération Départementale des Chasseurs des Deux-Sèvres en partenariat avec la commune d’Aigondigné vous invite à participer à une matinée de ramassage des déchets le samedi 16 mars 2024. \nCet évènement dénommé « J’aime la Nature Propre » a pour objectif de sensibiliser les deux-sévriens au ramassage des déchets et à leur recyclage tout en partageant un moment convivial ! \nToute personne souhaitant y participer peut se rendre à Aigondigné\, partenaire du projet\, sur les lieux suivants : place de la fruitière à Mougon\, mairie d’Aigonnay\, salle des fêtes de Tauché\, place de la laïcité de Thorigné. \nL’accueil des participants se fera par les responsables des sites avec distribution de gilets chasubles\, de gants et de sacs-poubelles pour la collecte des déchets. \nLe départ sera libre\, de 9h30 à 11h30. Le retour sera également libre\, jusqu’à environ 12h. \nPour de plus amples informations sur cet évènement\, rendez-vous sur le site internet dédié à « J’aime la Nature Propre »  \nOn vous attend nombreux pour participer à la préservation de notre nature Deux-Sévrienne ! \n
URL:https://www.aigondigne.fr/evenement/jaime-la-nature-propre/
LOCATION:Aigondigné\, Aigondigné\, 79370\, France
CATEGORIES:biodiversité
ATTACH;FMTTYPE=image/jpeg:https://www.aigondigne.fr/wp-content/uploads/2024/02/Jaime-la-nature-propre.jpg
END:VEVENT
END:VCALENDAR