BEGIN:VCALENDAR
VERSION:2.0
PRODID:-//Aigondigné - ECPv4.9.14//NONSGML v1.0//EN
CALSCALE:GREGORIAN
METHOD:PUBLISH
X-WR-CALNAME:Aigondigné
X-ORIGINAL-URL:https://www.aigondigne.fr
X-WR-CALDESC:Évènements pour Aigondigné
BEGIN:VTIMEZONE
TZID:Europe/Paris
BEGIN:DAYLIGHT
TZOFFSETFROM:+0100
TZOFFSETTO:+0200
TZNAME:CEST
DTSTART:20220327T010000
END:DAYLIGHT
BEGIN:STANDARD
TZOFFSETFROM:+0200
TZOFFSETTO:+0100
TZNAME:CET
DTSTART:20221030T010000
END:STANDARD
END:VTIMEZONE
BEGIN:VEVENT
DTSTART;TZID=Europe/Paris:20220521T140000
DTEND;TZID=Europe/Paris:20220521T163000
DTSTAMP:20260421T114811
CREATED:20220207T110939Z
LAST-MODIFIED:20220303T141347Z
UID:9799-1653141600-1653150600@www.aigondigne.fr
SUMMARY:Jardin au naturel : Les plantes sauvages\, des alliées au jardin et des trésors à cuisiner
DESCRIPTION:\n\n\n \n\n\n\n\nDans le cadre du programme des animations Jardin au naturel\, découvrez ces plantes sauvages qui poussent dans mon jardin au naturel : alliées pour le jardinier et des merveilles à goûter ! \nAnimateur : Vent d’ouest et Amandine GEERS \nInscription auprès de Niort Agglo – service des eaux \nou par téléphone au 06 10 51 64 16  \n\nGratuit Nombre de places limitées / inscription obligatoire \nles lieu et heure du RDV vous seront communiqués lors de votre inscription \nRetrouvez ici toute la programmation JARDIN AU NATUREL 2022 \n
URL:https://www.aigondigne.fr/evenement/jardin-au-naturel-les-plantes-sauvages-des-alliees-au-jardin-et-des-tresors-a-cuisiner/
LOCATION:Aigondigné\, Aigondigné\, 79370\, France
ATTACH;FMTTYPE=image/jpeg:https://www.aigondigne.fr/wp-content/uploads/2022/02/JArdin-au-naturel.jpg
END:VEVENT
END:VCALENDAR