BEGIN:VCALENDAR
VERSION:2.0
PRODID:-//Aigondigné - ECPv4.9.14//NONSGML v1.0//EN
CALSCALE:GREGORIAN
METHOD:PUBLISH
X-WR-CALNAME:Aigondigné
X-ORIGINAL-URL:https://www.aigondigne.fr
X-WR-CALDESC:Évènements pour Aigondigné
BEGIN:VTIMEZONE
TZID:Europe/Paris
BEGIN:DAYLIGHT
TZOFFSETFROM:+0100
TZOFFSETTO:+0200
TZNAME:CEST
DTSTART:20210328T010000
END:DAYLIGHT
BEGIN:STANDARD
TZOFFSETFROM:+0200
TZOFFSETTO:+0100
TZNAME:CET
DTSTART:20211031T010000
END:STANDARD
END:VTIMEZONE
BEGIN:VEVENT
DTSTART;TZID=Europe/Paris:20210518T100000
DTEND;TZID=Europe/Paris:20210518T120000
DTSTAMP:20260424T112601
CREATED:20210507T132222Z
LAST-MODIFIED:20210517T093857Z
UID:7394-1621332000-1621339200@www.aigondigne.fr
SUMMARY:Job dating
DESCRIPTION:Job dating organisé à Melle par le CBE (Comité de Bassin d’Emploi Mellois en Poitou) \nPlusieurs postes sont à pourvoir.  \nRenseignements et inscription obligatoire au 05 49 17 50 57 \n
URL:https://www.aigondigne.fr/evenement/job-dating/
LOCATION:Melle\, Melle\, 79370\, France
ORGANIZER;CN="Comit%C3%A9%20de%20Bassin%20d%27Emploi":MAILTO:secretariat@cbedumellois.fr
END:VEVENT
END:VCALENDAR